BEGIN:VCALENDAR
VERSION:2.0
PRODID:-//Het LEF - ECPv6.15.20//NONSGML v1.0//EN
CALSCALE:GREGORIAN
METHOD:PUBLISH
X-ORIGINAL-URL:https://www.leidenkennisstad.nl/hetlef
X-WR-CALDESC:Evenementen voor Het LEF
REFRESH-INTERVAL;VALUE=DURATION:PT1H
X-Robots-Tag:noindex
X-PUBLISHED-TTL:PT1H
BEGIN:VTIMEZONE
TZID:Europe/Amsterdam
BEGIN:DAYLIGHT
TZOFFSETFROM:+0100
TZOFFSETTO:+0200
TZNAME:CEST
DTSTART:20250330T010000
END:DAYLIGHT
BEGIN:STANDARD
TZOFFSETFROM:+0200
TZOFFSETTO:+0100
TZNAME:CET
DTSTART:20251026T010000
END:STANDARD
BEGIN:DAYLIGHT
TZOFFSETFROM:+0100
TZOFFSETTO:+0200
TZNAME:CEST
DTSTART:20260329T010000
END:DAYLIGHT
BEGIN:STANDARD
TZOFFSETFROM:+0200
TZOFFSETTO:+0100
TZNAME:CET
DTSTART:20261025T010000
END:STANDARD
BEGIN:DAYLIGHT
TZOFFSETFROM:+0100
TZOFFSETTO:+0200
TZNAME:CEST
DTSTART:20270328T010000
END:DAYLIGHT
BEGIN:STANDARD
TZOFFSETFROM:+0200
TZOFFSETTO:+0100
TZNAME:CET
DTSTART:20271031T010000
END:STANDARD
END:VTIMEZONE
BEGIN:VEVENT
DTSTART;TZID=Europe/Amsterdam:20260105T090000
DTEND;TZID=Europe/Amsterdam:20260105T110000
DTSTAMP:20260424T153608
CREATED:20250527T110721Z
LAST-MODIFIED:20250703T170912Z
UID:12103-1767603600-1767610800@www.leidenkennisstad.nl
SUMMARY:Samenwerkochtend kernteam het LEF #4
DESCRIPTION:﻿Hoe maken we optimaal gebruik van elkaars perspectieven t.b.v. de uitdagingen die we in ons werk tegen komen? \nIn het kernteam van het LEF komen we elke maand samen tijdens de samenwerkochtend. \nTijdens deze ochtend inventariseren we kort welke uitdaging een ieder in zijn of haar werk heeft waar je het perspectief van de ander nodig hebt. Dan maken we via ons Miro bord cross-overs en kijken wie met wie aan het werk gaat de komende 2 uur. \nSinds dat we deze vorm ontworpen hebben in het LEF is zowel de betrokkenheid als de aanwezigheid zeer hoog. We hebben elkaar nodig voor de uitdagingen waar we voor staan. \nHeb je een prangende vraag voor het kernteam van het LEF? Neem contact op met het LEF via info@hetlef.nl
URL:https://www.leidenkennisstad.nl/hetlef/evenement/samenwerkochtend-kernteam-het-lef-4-3/
LOCATION:LLokaal met LEF\, Betaplein 18\, Leiden\, 2321 CS\, Nederland
ATTACH;FMTTYPE=image/jpeg:https://www.leidenkennisstad.nl/hetlef/wp-content/uploads/2022/06/thumbnail_IMG_8365.jpg
END:VEVENT
BEGIN:VEVENT
DTSTART;TZID=Europe/Amsterdam:20260115T153000
DTEND;TZID=Europe/Amsterdam:20260115T170000
DTSTAMP:20260424T153608
CREATED:20251030T145359Z
LAST-MODIFIED:20251030T150632Z
UID:12629-1768491000-1768496400@www.leidenkennisstad.nl
SUMMARY:Vernieuwen\, verbinden en verdiepen in het Leidse Onderwijs - Innoveren met LEF
DESCRIPTION:Dit schooljaar is het weer mogelijk om een innovatiesubsidie aan te vragen. Iedereen met een innovatief plan voor het onderwijs kan hiervoor een aanvraag doen via het bestuur van hun Leidse onderwijsinstelling. Onder een onderwijsinstelling vallen ook de Leidse musea en stichtingen\, die zich bezighouden met onderwijsontwikkeling. Alles is goed – kleine en grote aanvragen – als het maar vernieuwend is en er minimaal twee onderwijspartners samenwerken. Dien jullie plan uiterlijk 25 februari 2026 online in. \nSamen vernieuwen we het Leidse onderwijs. Doe jij (weer) mee? \n\nVernieuwen\, verdiepen en verbinden met LEF\nHet LEF ondersteunt\, in samenwerking met de gemeente Leiden\, alle Leidse onderwijsinnovatieprojecten. Dit gebeurt middels het traject ‘Innoveren met LEF’.\nWil je inspiratie opdoen\, jouw project (door)ontwikkelen* en daarvoor mogelijke partners ontmoeten of vragen stellen over het subsidieproces? Dan ben je van harte welkom bij de bijeenkomst van Innoveren met LEF op donderdag 15 januari tussen 15:30 – 17:00 bij LLokaal met LEF (Bètaplein 18). Deze bijeenkomst staat in het teken van vernieuwen\, verbinden en verdiepen in het Leidse onderwijs.\n\n*Ook als je eerder een subsidieaanvraag hebt gedaan\, ben je van harte welkom voor deze inspiratiemiddag. \n\n 
URL:https://www.leidenkennisstad.nl/hetlef/evenement/vernieuwen-verbinden-en-verdiepen-in-het-leidse-onderwijs-innoveren-met-lef-2/
LOCATION:Het LEF\, Bètaplein 18\, Leiden\, Zuid-Holland\, 2321 CS
CATEGORIES:Dwarslijn: Innoveren met LEF
ATTACH;FMTTYPE=image/jpeg:https://www.leidenkennisstad.nl/hetlef/wp-content/uploads/2023/10/Innovatiesubsidie-e1698682521382.jpg
END:VEVENT
BEGIN:VEVENT
DTSTART;TZID=Europe/Amsterdam:20260128T170000
DTEND;TZID=Europe/Amsterdam:20260128T210000
DTSTAMP:20260424T153608
CREATED:20250219T081832Z
LAST-MODIFIED:20260114T215032Z
UID:11867-1769619600-1769634000@www.leidenkennisstad.nl
SUMMARY:Leidse Onderwijstafel met LEF #1 -2025/2026
DESCRIPTION:Gemeente Leiden organiseert in samenwerking met het LEF  ‘de Leidse onderwijstafel met LEF’. Dit is alweer de 22e editie maar de eerste van dit schooljaar. \nTijdens elke onderwijstafel staat er een thema centraal waar vertegenwoordigers van voorschoolse educatie\, po\, vo\, mbo\, hbo en wo en organisaties zoals JesRijnland\, Technolab\, Naturalis\, Verwonder om de hoek en Cultuur Educatie Groep nader samenwerken om kennis uit te wisselen en gezamenlijke initiatieven te organiseren. De onderwijstafel met LEF wordt in samenwerking met gemeente Leiden en het LEF steeds op een van de locaties van de Leidse instellingen georganiseerd en gehost. \nDeze onderwijstafel staat in het teken van afsluiten en vieren Leiden Nationale Onderwijsstad 2025\, vieren start 3e fase het LEF en de start van de nieuwe zichtlijn brede vorming en wordt gehost door Hogeschool Leiden. \nIntentie \nHet is onze intentie om deze Leidse Onderwijstafel met LEF onze zintuigen te openen – om te luisteren\, te zien\, te voelen en te ervaren wat Leiden Nationale Onderwijsstad 2025 (LNOS) ons heeft gebracht en wat het van ons vraagt om de Legacy van LNOS te blijven vormgeven. We onderzoeken hoe we samen richting gaan geven aan de zichtlijn brede vorming\, zodat we met daadkracht\, energie en vertrouwen handelen in de start van de derde fase van het LEF. \nWe gaan aan de slag met: \n\nVieren succes LNOS\nImpact meten LNOS\nStarten met Legacy Onderwijsstad\nVieren start 3e fase het LEF\nStart zichtlijn brede vorming het LEF\n\n  \n\n  \nDeze tafel is uitsluitend voor genodigden. Maar\, we hebben ook een aantal open tickets voor deze avond. Wil jij meedenken\, stuur dan je motivatie via de aanmeldknop direct aan Sanne van der Linden \n 
URL:https://www.leidenkennisstad.nl/hetlef/evenement/leidse-onderwijstafel-met-lef-1-2025-2026-2/
LOCATION:Hogeschool Leiden\, Zernikedreef 11\, Leiden\, Zuid-Holland\, 2333 CK
CATEGORIES:Leidse onderwijstafel met LEF,netwerkimpactmodel,Zichtlijn: Brede vorming
ATTACH;FMTTYPE=image/jpeg:https://www.leidenkennisstad.nl/hetlef/wp-content/uploads/2024/09/LLokaal-LEF-11092024.jpg
END:VEVENT
END:VCALENDAR