BEGIN:VCALENDAR
VERSION:2.0
PRODID:-//Het LEF - ECPv6.15.20//NONSGML v1.0//EN
CALSCALE:GREGORIAN
METHOD:PUBLISH
X-WR-CALNAME:Het LEF
X-ORIGINAL-URL:https://www.leidenkennisstad.nl/hetlef
X-WR-CALDESC:Evenementen voor Het LEF
REFRESH-INTERVAL;VALUE=DURATION:PT1H
X-Robots-Tag:noindex
X-PUBLISHED-TTL:PT1H
BEGIN:VTIMEZONE
TZID:Europe/Amsterdam
BEGIN:DAYLIGHT
TZOFFSETFROM:+0100
TZOFFSETTO:+0200
TZNAME:CEST
DTSTART:20180325T010000
END:DAYLIGHT
BEGIN:STANDARD
TZOFFSETFROM:+0200
TZOFFSETTO:+0100
TZNAME:CET
DTSTART:20181028T010000
END:STANDARD
BEGIN:DAYLIGHT
TZOFFSETFROM:+0100
TZOFFSETTO:+0200
TZNAME:CEST
DTSTART:20190331T010000
END:DAYLIGHT
BEGIN:STANDARD
TZOFFSETFROM:+0200
TZOFFSETTO:+0100
TZNAME:CET
DTSTART:20191027T010000
END:STANDARD
BEGIN:DAYLIGHT
TZOFFSETFROM:+0100
TZOFFSETTO:+0200
TZNAME:CEST
DTSTART:20200329T010000
END:DAYLIGHT
BEGIN:STANDARD
TZOFFSETFROM:+0200
TZOFFSETTO:+0100
TZNAME:CET
DTSTART:20201025T010000
END:STANDARD
END:VTIMEZONE
BEGIN:VEVENT
DTSTART;TZID=Europe/Amsterdam:20191111T153000
DTEND;TZID=Europe/Amsterdam:20191111T173000
DTSTAMP:20260425T002819
CREATED:20190619T154027Z
LAST-MODIFIED:20191104T194454Z
UID:1725-1573486200-1573493400@www.leidenkennisstad.nl
SUMMARY:(Thematische) LEF-ontmoeting rondom het thema Evalueren om te Leren
DESCRIPTION:Thematische LEF-ontmoetingen rondom het thema \n  \nEVALUEREN OM TE LEREN* \n  \n \nIn vrijwel alle sectoren van het onderwijs is het evalueren en verantwoorden van onderwijs een actueel thema. De oproep van Gert Biesta om met elkaar na te denken over de bedoeling van onderwijs en om daarmee ook de toetscultuur eens onder de loep te nemen\, heeft in de afgelopen jaren veel onderwijsinstellingen bereikt. Waarom doen wij de dingen die wij doen? Hebben de dingen die wij doen wel tot gevolg wat wij oorspronkelijk voor ogen hadden? Is de toetscultuur zoals wij die kennen wel noodzakelijk voor het geven en ontvangen van goed onderwijs? \nEen van de ontwikkelingen die samenhangt met deze vragen is de opkomst van het zogenaamde formatief evalueren\, ook wel pedagogisch evalueren genoemd. Hierbij gaat het erom dat de toetsing geen doel is maar een pedagogisch middel: Evalueren om te leren. \n  \nLEF-ontmoetingen: voor wie? \n  \nDe serie thematische LEF-ontmoetingen Evalueren om te leren is bedoeld voor mensen uit het Leidse onderwijsveld (e.o.) die zich in praktijk of theorie bezighouden met nieuwe vormen van evalueren en verantwoorden binnen de eigen instelling. Een leraar die in de klas nieuwe evaluatievormen uitprobeert\, een onderwijsmanager die uit is op een transitie of een onderzoeker die een relatie wil leggen tussen eigen onderzoek en de praktijk van een school; iedereen is welkom. Er is ruimte voor 10 tot 20 pioniers die met elkaar kennis willen delen\, ervaringen willen uitwisselen en inspiratie willen opdoen voor de onderwijspraktijk van de toekomst. De eerste en laatste bijeenkomst zijn voor een grotere groep mensen toegankelijk. \n  \nLEF-ontmoetingen: wat & hoe \n  \nWe starten met een lezing op 11 november (Uitnodiging LEF-Ontmoetingen Evalueren om te Leren 11-11-19) die toegankelijk is voor iedereen met interesse in het thema. Deze lezing wordt verzorgd door Annemieke Zwart\, die als onderwijsbegeleider al decennialang specialist is in het laten aansluiten van bedoeling en praktijk. \n  \nVervolgens komen we in een kerngroep van 10 à 20 mensen 4 keer bij elkaar (9 december\, 3 februari\, 2 maart\, 6 april). Deze bijeenkomsten zijn bedoeld voor verdieping en uitwisseling. Alle deelnemers kiezen een vraag waar ze graag antwoord op willen en gaan vervolgens zelf aan de slag met het beantwoorden van die vraag. Daarbij kunnen de deelnemers elkaar helpen. Als je deelneemt aan de kerngroep\, is het de bedoeling dat je bij alle bijeenkomsten aanwezig bent. \n  \nIn de laatste bijeenkomst op 25 mei delen we onze antwoorden op (onderzoeks-)vragen en praktijkvoorbeelden met elkaar. Deze bijeenkomst is weer open voor alle geïnteresseerden. \n  \n  \nPraktische informatie \n  \nDe startbijeenkomst vindt plaats op 11 november 2019 van 15:30 tot 17:30met een borrel na afloop. De bijeenkomst vindt plaats in de aula van het Da Vinci College in Leiden (Kagerstraat 7). \n  \nDe bijeenkomsten van de kerngroep vinden plaats op 9 december\, 3 februari\, 2 maart\, 6 april en 25 mei van 15:30 tot 17:30 in het LEF (Kennedylaan 1). \n  \nDe laatste bijeenkomst op 25 mei\, waarin opbrengsten worden gedeeld\, is toegankelijk voor alle geïnteresseerden. \n  \nAan de ontmoetingen zijn geen kosten verbonden. De opbrengst van de ontmoetingen vloeit terug in de eigen organisatie en wordt dus financieel door de eigen instelling gedragen in de vorm van vergoede werkuren. \n  \nLEF-ontmoetingen is een initiatief van samenwerkende LEF-partners: Da Vinci College\, Universiteit Leiden en Hogeschool Leiden
URL:https://www.leidenkennisstad.nl/hetlef/evenement/thematische-lef-ontmoeting-rondom-het-thema-evalueren-om-te-leren/
ATTACH;FMTTYPE=image/jpeg:https://www.leidenkennisstad.nl/hetlef/wp-content/uploads/2019/06/evalueren.jpg
END:VEVENT
BEGIN:VEVENT
DTSTART;TZID=Europe/Amsterdam:20191111T093000
DTEND;TZID=Europe/Amsterdam:20191111T170000
DTSTAMP:20260425T002819
CREATED:20191018T150228Z
LAST-MODIFIED:20191018T150241Z
UID:2267-1573464600-1573491600@www.leidenkennisstad.nl
SUMMARY:Ontmoeting Hogeschool Leiden faculteit Educatie
DESCRIPTION:
URL:https://www.leidenkennisstad.nl/hetlef/evenement/ontmoeting-hogeschool-leiden-faculteit-educatie/
END:VEVENT
BEGIN:VEVENT
DTSTART;TZID=Europe/Amsterdam:20191111T080000
DTEND;TZID=Europe/Amsterdam:20191111T110000
DTSTAMP:20260425T002819
CREATED:20191018T150324Z
LAST-MODIFIED:20191018T150324Z
UID:2270-1573459200-1573470000@www.leidenkennisstad.nl
SUMMARY:Ontmoeting Leidse Aanpak en voorschoolse partners
DESCRIPTION:
URL:https://www.leidenkennisstad.nl/hetlef/evenement/ontmoeting-leidse-aanpak-en-voorschoolse-partners/
END:VEVENT
BEGIN:VEVENT
DTSTART;TZID=Europe/Amsterdam:20191108T090000
DTEND;TZID=Europe/Amsterdam:20191108T123000
DTSTAMP:20260425T002819
CREATED:20191018T145800Z
LAST-MODIFIED:20191028T153656Z
UID:2259-1573203600-1573216200@www.leidenkennisstad.nl
SUMMARY:Da Vinci coach training
DESCRIPTION:Wil je meer weten of aansluiten? Neem contact op met Myra Warmer van Da Vinci\, zie contactgegevens pagina ‘over ons’.
URL:https://www.leidenkennisstad.nl/hetlef/evenement/vr-training-2/
CATEGORIES:Zichtlijn Open Space
END:VEVENT
BEGIN:VEVENT
DTSTART;TZID=Europe/Amsterdam:20191106T100000
DTEND;TZID=Europe/Amsterdam:20191106T113000
DTSTAMP:20260425T002819
CREATED:20191018T150141Z
LAST-MODIFIED:20191018T150706Z
UID:2264-1573034400-1573039800@www.leidenkennisstad.nl
SUMMARY:Ontmoeting City deals
DESCRIPTION:Meer weten? Neem contact op met Sanne van der Linden\, zie contactgegevens ‘over ons’ .
URL:https://www.leidenkennisstad.nl/hetlef/evenement/ontmoeting-city-deals/
END:VEVENT
BEGIN:VEVENT
DTSTART;TZID=Europe/Amsterdam:20191104T143000
DTEND;TZID=Europe/Amsterdam:20191104T180000
DTSTAMP:20260425T002819
CREATED:20191018T145541Z
LAST-MODIFIED:20191018T145541Z
UID:2253-1572877800-1572890400@www.leidenkennisstad.nl
SUMMARY:Museum ontmoeting
DESCRIPTION:Meer weten? Neem contact op met Marleen Spiering\, zie contactgegevens ‘over ons’ .
URL:https://www.leidenkennisstad.nl/hetlef/evenement/museum-ontmoeting/
CATEGORIES:Zichtlijn Open Space
END:VEVENT
BEGIN:VEVENT
DTSTART;TZID=Europe/Amsterdam:20191104T130000
DTEND;TZID=Europe/Amsterdam:20191104T170000
DTSTAMP:20260425T002819
CREATED:20191018T145639Z
LAST-MODIFIED:20191018T145639Z
UID:2256-1572872400-1572886800@www.leidenkennisstad.nl
SUMMARY:Leidse Aanpak ontmoeting
DESCRIPTION:
URL:https://www.leidenkennisstad.nl/hetlef/evenement/leidse-aanpak-ontmoeting/
END:VEVENT
BEGIN:VEVENT
DTSTART;TZID=Europe/Amsterdam:20191031T130000
DTEND;TZID=Europe/Amsterdam:20191031T170000
DTSTAMP:20260425T002819
CREATED:20191018T145225Z
LAST-MODIFIED:20191018T145908Z
UID:2246-1572526800-1572541200@www.leidenkennisstad.nl
SUMMARY:Ruimte houders
DESCRIPTION:
URL:https://www.leidenkennisstad.nl/hetlef/evenement/ruimte-houders/
CATEGORIES:Zichtlijn Open Space
END:VEVENT
BEGIN:VEVENT
DTSTART;TZID=Europe/Amsterdam:20191029T090000
DTEND;TZID=Europe/Amsterdam:20191029T123000
DTSTAMP:20260425T002819
CREATED:20191018T144746Z
LAST-MODIFIED:20191018T144746Z
UID:2238-1572339600-1572352200@www.leidenkennisstad.nl
SUMMARY:Onderwijs Inspiratie Reis
DESCRIPTION:Twee dagen die volledig in het teken zullen staan van elkaar ontmoeten\, het voeren van een inhoudelijke dialoog en plezier maken met collega’s van Montessorischool Leidschenveen. Op dinsdag 29 oktober zijn zij in de ochtend in het LEF.
URL:https://www.leidenkennisstad.nl/hetlef/evenement/onderwijs-inspiratie-reis/
LOCATION:Het LEF\, Bètaplein 18\, Leiden\, Zuid-Holland\, 2321 CS
END:VEVENT
BEGIN:VEVENT
DTSTART;TZID=Europe/Amsterdam:20191028T123000
DTEND;TZID=Europe/Amsterdam:20191028T180000
DTSTAMP:20260425T002819
CREATED:20191018T145028Z
LAST-MODIFIED:20191018T145105Z
UID:2241-1572265800-1572285600@www.leidenkennisstad.nl
SUMMARY:Opleidingsschool ROS Rijnland
DESCRIPTION:Opleidingsschool ROS Rijnland in het LEF!
URL:https://www.leidenkennisstad.nl/hetlef/evenement/opleidingsschool-ros-rijnland/
LOCATION:Het LEF\, Bètaplein 18\, Leiden\, Zuid-Holland\, 2321 CS
CATEGORIES:Zichtlijn Open Space
END:VEVENT
BEGIN:VEVENT
DTSTART;TZID=Europe/Amsterdam:20191021T080000
DTEND;TZID=Europe/Amsterdam:20191025T170000
DTSTAMP:20260425T002819
CREATED:20191018T151851Z
LAST-MODIFIED:20191018T151851Z
UID:2297-1571644800-1572022800@www.leidenkennisstad.nl
SUMMARY:Herfstvakantie\, het LEF is gesloten!
DESCRIPTION:
URL:https://www.leidenkennisstad.nl/hetlef/evenement/herfstvakantie-het-lef-is-gesloten/
END:VEVENT
BEGIN:VEVENT
DTSTART;TZID=Europe/Amsterdam:20191017T130000
DTEND;TZID=Europe/Amsterdam:20191017T150000
DTSTAMP:20260425T002819
CREATED:20191018T164551Z
LAST-MODIFIED:20191018T164551Z
UID:2333-1571317200-1571324400@www.leidenkennisstad.nl
SUMMARY:Donderdag Verwonderdag
DESCRIPTION:Voor meer informatie neem contact op met Anna Reints\, zie ‘over ons’ voor contactgegevens.
URL:https://www.leidenkennisstad.nl/hetlef/evenement/donderdag-verwonderdag-2/
END:VEVENT
BEGIN:VEVENT
DTSTART;TZID=Europe/Amsterdam:20191017T130000
DTEND;TZID=Europe/Amsterdam:20191017T133000
DTSTAMP:20260425T002819
CREATED:20191018T164639Z
LAST-MODIFIED:20191018T164639Z
UID:2336-1571317200-1571319000@www.leidenkennisstad.nl
SUMMARY:Ontmoeting ROS Rijnland
DESCRIPTION:Voor meer informatie neem contact op met Myra Warmer\, zie ‘over ons’ voor contactgegevens.
URL:https://www.leidenkennisstad.nl/hetlef/evenement/ontmoeting-ros-rijnland/
END:VEVENT
BEGIN:VEVENT
DTSTART;TZID=Europe/Amsterdam:20191009T170000
DTEND;TZID=Europe/Amsterdam:20191009T220000
DTSTAMP:20260425T002819
CREATED:20190507T115052Z
LAST-MODIFIED:20190904T125305Z
UID:1170-1570640400-1570658400@www.leidenkennisstad.nl
SUMMARY:Nacht van de Leraar
DESCRIPTION:
URL:https://www.leidenkennisstad.nl/hetlef/evenement/nacht-van-de-leraar/
LOCATION:mboRijnland\, Breestraat 48\, Leiden\, Zuid-Holland\, 2311 CS\, Nederland
CATEGORIES:Nacht van de Leraar
ATTACH;FMTTYPE=image/jpeg:https://www.leidenkennisstad.nl/hetlef/wp-content/uploads/2019/05/Nacht-van-de-leraar.jpg
END:VEVENT
BEGIN:VEVENT
DTSTART;TZID=Europe/Amsterdam:20191007T160000
DTEND;TZID=Europe/Amsterdam:20191007T173000
DTSTAMP:20260425T002819
CREATED:20190923T115946Z
LAST-MODIFIED:20190923T120353Z
UID:1920-1570464000-1570469400@www.leidenkennisstad.nl
SUMMARY:Voorbereiding Museum Debat
DESCRIPTION:
URL:https://www.leidenkennisstad.nl/hetlef/evenement/voorbereiding-museum-debat/
END:VEVENT
BEGIN:VEVENT
DTSTART;TZID=Europe/Amsterdam:20191007T130000
DTEND;TZID=Europe/Amsterdam:20191007T170000
DTSTAMP:20260425T002819
CREATED:20190923T120144Z
LAST-MODIFIED:20190923T120443Z
UID:1923-1570453200-1570467600@www.leidenkennisstad.nl
SUMMARY:Leidse Aanpak projectgroep
DESCRIPTION:
URL:https://www.leidenkennisstad.nl/hetlef/evenement/leidse-aanpak-projectgroep/
END:VEVENT
BEGIN:VEVENT
DTSTART;TZID=Europe/Amsterdam:20191002T140000
DTEND;TZID=Europe/Amsterdam:20191002T160000
DTSTAMP:20260425T002819
CREATED:20190923T120322Z
LAST-MODIFIED:20190923T120322Z
UID:1929-1570024800-1570032000@www.leidenkennisstad.nl
SUMMARY:SCOL kick off lerarentekortt
DESCRIPTION:
URL:https://www.leidenkennisstad.nl/hetlef/evenement/scol-kick-off-lerarentekortt/
END:VEVENT
BEGIN:VEVENT
DTSTART;VALUE=DATE:20190927
DTEND;VALUE=DATE:20190928
DTSTAMP:20260425T002819
CREATED:20190909T101954Z
LAST-MODIFIED:20190909T101954Z
UID:1856-1569542400-1569628799@www.leidenkennisstad.nl
SUMMARY:HSL - Faculteit Educatie
DESCRIPTION:
URL:https://www.leidenkennisstad.nl/hetlef/evenement/hsl-faculteit-educatie-2/
END:VEVENT
BEGIN:VEVENT
DTSTART;VALUE=DATE:20190926
DTEND;VALUE=DATE:20190927
DTSTAMP:20260425T002819
CREATED:20190909T101903Z
LAST-MODIFIED:20190909T102440Z
UID:1853-1569456000-1569542399@www.leidenkennisstad.nl
SUMMARY:HSL - Faculteit Educatie
DESCRIPTION:
URL:https://www.leidenkennisstad.nl/hetlef/evenement/hsl-faculteit-educatie/
END:VEVENT
BEGIN:VEVENT
DTSTART;TZID=Europe/Amsterdam:20190925T160000
DTEND;TZID=Europe/Amsterdam:20190925T180000
DTSTAMP:20260425T002819
CREATED:20190507T114952Z
LAST-MODIFIED:20190905T115626Z
UID:1167-1569427200-1569434400@www.leidenkennisstad.nl
SUMMARY:Sneak Peek
DESCRIPTION:Speciaal voor alle onderwijsprofessionals die al eens in het LEF zijn geweest. \nBekijk de uitnodiging en meld je snel aan! \n 
URL:https://www.leidenkennisstad.nl/hetlef/evenement/sneak-peak/
ATTACH;FMTTYPE=image/jpeg:https://www.leidenkennisstad.nl/hetlef/wp-content/uploads/2019/05/Sneak-Peak.jpg
END:VEVENT
BEGIN:VEVENT
DTSTART;TZID=Europe/Amsterdam:20190925T130000
DTEND;TZID=Europe/Amsterdam:20190925T150000
DTSTAMP:20260425T002819
CREATED:20190923T120237Z
LAST-MODIFIED:20190923T120237Z
UID:1926-1569416400-1569423600@www.leidenkennisstad.nl
SUMMARY:PROOLeiden Meerjarenplan Nieuwkomers
DESCRIPTION:
URL:https://www.leidenkennisstad.nl/hetlef/evenement/prooleiden-meerjarenplan-nieuwkomers/
END:VEVENT
BEGIN:VEVENT
DTSTART;TZID=Europe/Amsterdam:20190924T140000
DTEND;TZID=Europe/Amsterdam:20190924T170000
DTSTAMP:20260425T002819
CREATED:20190923T115811Z
LAST-MODIFIED:20190923T115811Z
UID:1917-1569333600-1569344400@www.leidenkennisstad.nl
SUMMARY:Werkgroep Leonardo College
DESCRIPTION:
URL:https://www.leidenkennisstad.nl/hetlef/evenement/werkgroep-leonardo-college/
END:VEVENT
BEGIN:VEVENT
DTSTART;TZID=Europe/Amsterdam:20190916T143000
DTEND;TZID=Europe/Amsterdam:20190916T160000
DTSTAMP:20260425T002819
CREATED:20190909T101547Z
LAST-MODIFIED:20190909T102432Z
UID:1844-1568644200-1568649600@www.leidenkennisstad.nl
SUMMARY:Leidse aanpak overleg
DESCRIPTION:
URL:https://www.leidenkennisstad.nl/hetlef/evenement/leidse-aanpak-overleg/
END:VEVENT
BEGIN:VEVENT
DTSTART;TZID=Europe/Amsterdam:20190913T100000
DTEND;TZID=Europe/Amsterdam:20190913T113000
DTSTAMP:20260425T002819
CREATED:20190909T101746Z
LAST-MODIFIED:20190916T165429Z
UID:1850-1568368800-1568374200@www.leidenkennisstad.nl
SUMMARY:LEF stuurgroepoverleg
DESCRIPTION:
URL:https://www.leidenkennisstad.nl/hetlef/evenement/lef-stuurgroepoverleg/
END:VEVENT
BEGIN:VEVENT
DTSTART;TZID=Europe/Amsterdam:20190909T150000
DTEND;TZID=Europe/Amsterdam:20190909T170000
DTSTAMP:20260425T002819
CREATED:20190909T133048Z
LAST-MODIFIED:20190909T102425Z
UID:1847-1568041200-1568048400@www.leidenkennisstad.nl
SUMMARY:SCOL overleg
DESCRIPTION:
URL:https://www.leidenkennisstad.nl/hetlef/evenement/scol-overleg/
END:VEVENT
BEGIN:VEVENT
DTSTART;TZID=Europe/Amsterdam:20190613T140000
DTEND;TZID=Europe/Amsterdam:20190613T164500
DTSTAMP:20260425T002819
CREATED:20190507T085428Z
LAST-MODIFIED:20190528T194920Z
UID:1163-1560434400-1560444300@www.leidenkennisstad.nl
SUMMARY:Donderdag Verwonderdag
DESCRIPTION:De allereerste Donderdag Verwonderdag vindt plaats op donderdag 13 juni. \nRijksmuseum Boerhaave en Technolab vieren de start van deze nieuwe traditie samen met basisschool Lucas van Leyden tijdens een middag in het teken van water. Verwonderen doe je natuurlijk iedere dag\, maar vanaf 13 juni maken we in Leiden van de donderdag een Verwonderdag. De dag is speciaal bedoeld voor iedereen die nieuwsgierig naar wetenschap is; van juffen en meesters tot ouders en leerlingen en van museummedewerkers en Technolabbers tot naschoolse opvang. \nAlle kinderen in Leiden hebben een Verwonderpaspoort en met de Donderdag Verwonderdag stimuleren we hen de wondere wereld van de wetenschap te ontdekken op school en in hun vrije tijd.
URL:https://www.leidenkennisstad.nl/hetlef/evenement/donderdag-verwonderdag/
LOCATION:Rijksmuseum Boerhaave\, Lange St. Agnietenstraat 10\, Leiden\, Zuid-Holland\, 2312 WC\, Nederland
ATTACH;FMTTYPE=image/jpeg:https://www.leidenkennisstad.nl/hetlef/wp-content/uploads/2019/05/DonderdagVerwonderdag.jpg
ORGANIZER;CN="Sanne van der Linden":MAILTO:linden.vd.s@hsleiden.nl
END:VEVENT
BEGIN:VEVENT
DTSTART;TZID=Europe/Amsterdam:20190515T173000
DTEND;TZID=Europe/Amsterdam:20190515T193000
DTSTAMP:20260425T002819
CREATED:20190411T173410Z
LAST-MODIFIED:20190528T194902Z
UID:796-1557941400-1557948600@www.leidenkennisstad.nl
SUMMARY:Game-Based Learning Hogeschool Leiden
DESCRIPTION:Hoe kun je educatieve spellen inzetten in de klas? En waarom zou je dat doen? \nSamen met adviseurs van Microsoft Education gaan wij de wereld van Game-Based Learning verkennen. Vervolgens nodigen we je uit om zelf de uitdaging aan te gaan. \nSpeel jij met ons mee?
URL:https://www.leidenkennisstad.nl/hetlef/evenement/game-based-learning-01/
LOCATION:Hogeschool Leiden\, Zernikedreef 11\, Leiden\, Zuid-Holland\, 2333 CK
ATTACH;FMTTYPE=image/jpeg:https://www.leidenkennisstad.nl/hetlef/wp-content/uploads/2019/05/gamebase.jpg
ORGANIZER;CN="Sanne van der Linden":MAILTO:linden.vd.s@hsleiden.nl
END:VEVENT
END:VCALENDAR