BEGIN:VCALENDAR
VERSION:2.0
PRODID:-//Het LEF - ECPv6.15.20//NONSGML v1.0//EN
CALSCALE:GREGORIAN
METHOD:PUBLISH
X-ORIGINAL-URL:https://www.leidenkennisstad.nl/hetlef
X-WR-CALDESC:Evenementen voor Het LEF
REFRESH-INTERVAL;VALUE=DURATION:PT1H
X-Robots-Tag:noindex
X-PUBLISHED-TTL:PT1H
BEGIN:VTIMEZONE
TZID:Europe/Amsterdam
BEGIN:DAYLIGHT
TZOFFSETFROM:+0100
TZOFFSETTO:+0200
TZNAME:CEST
DTSTART:20260329T010000
END:DAYLIGHT
BEGIN:STANDARD
TZOFFSETFROM:+0200
TZOFFSETTO:+0100
TZNAME:CET
DTSTART:20261025T010000
END:STANDARD
BEGIN:DAYLIGHT
TZOFFSETFROM:+0100
TZOFFSETTO:+0200
TZNAME:CEST
DTSTART:20270328T010000
END:DAYLIGHT
BEGIN:STANDARD
TZOFFSETFROM:+0200
TZOFFSETTO:+0100
TZNAME:CET
DTSTART:20271031T010000
END:STANDARD
BEGIN:DAYLIGHT
TZOFFSETFROM:+0100
TZOFFSETTO:+0200
TZNAME:CEST
DTSTART:20280326T010000
END:DAYLIGHT
BEGIN:STANDARD
TZOFFSETFROM:+0200
TZOFFSETTO:+0100
TZNAME:CET
DTSTART:20281029T010000
END:STANDARD
END:VTIMEZONE
BEGIN:VEVENT
DTSTART;TZID=Europe/Amsterdam:20270208T090000
DTEND;TZID=Europe/Amsterdam:20270208T110000
DTSTAMP:20260425T013451
CREATED:20260423T123359Z
LAST-MODIFIED:20260423T123359Z
UID:13583-1802077200-1802084400@www.leidenkennisstad.nl
SUMMARY:Samenwerkochtend kernteam het LEF #5
DESCRIPTION:Hoe maken we optimaal gebruik van elkaars perspectieven t.b.v. de uitdagingen die we in ons werk tegen komen? \nIn het kernteam van het LEF komen we elke maand samen tijdens de samenwerkochtend. \nTijdens deze ochtend inventariseren we kort welke uitdaging een ieder in zijn of haar zichtlijn of dwarslijn heeft waar je het perspectief van de ander nodig hebt. Dan maken we cross-overs en kijken wie met wie aan het werk gaat de komende 2 uur. \nSinds dat we deze vorm ontworpen hebben in het LEF is zowel de betrokkenheid als de aanwezigheid zeer hoog. We hebben elkaar nodig voor de uitdagingen waar we voor staan. \nHeb je een prangende vraag voor het kernteam van het LEF? Neem contact op met het LEF via info@hetlef.nl
URL:https://www.leidenkennisstad.nl/hetlef/evenement/samenwerkochtend-kernteam-het-lef-5-4/
LOCATION:LLokaal met LEF\, Betaplein 18\, Leiden\, 2321 CS\, Nederland
CATEGORIES:Dwarslijn: AI,Dwarslijn: Duurzaamheid,Dwarslijn: Innoveren met LEF,Dwarslijn: Onderwijs in de Leidse regio,Dwarslijn: Welzijn,Zichtlijn Open Space,Zichtlijn: Anders samenwerken,Zichtlijn: Brede vorming
ATTACH;FMTTYPE=image/jpeg:https://www.leidenkennisstad.nl/hetlef/wp-content/uploads/2022/06/thumbnail_IMG_8365.jpg
END:VEVENT
BEGIN:VEVENT
DTSTART;TZID=Europe/Amsterdam:20270308T090000
DTEND;TZID=Europe/Amsterdam:20270308T110000
DTSTAMP:20260425T013451
CREATED:20260423T123439Z
LAST-MODIFIED:20260423T123439Z
UID:13586-1804496400-1804503600@www.leidenkennisstad.nl
SUMMARY:Samenwerkochtend kernteam het LEF #6
DESCRIPTION:Hoe maken we optimaal gebruik van elkaars perspectieven t.b.v. de uitdagingen die we in ons werk tegen komen? \nIn het kernteam van het LEF komen we elke maand samen tijdens de samenwerkochtend. \nTijdens deze ochtend inventariseren we kort welke uitdaging een ieder in zijn of haar zichtlijn of dwarslijn heeft waar je het perspectief van de ander nodig hebt. Dan maken we cross-overs en kijken wie met wie aan het werk gaat de komende 2 uur. \nSinds dat we deze vorm ontworpen hebben in het LEF is zowel de betrokkenheid als de aanwezigheid zeer hoog. We hebben elkaar nodig voor de uitdagingen waar we voor staan. \nHeb je een prangende vraag voor het kernteam van het LEF? Neem contact op met het LEF via info@hetlef.nl
URL:https://www.leidenkennisstad.nl/hetlef/evenement/samenwerkochtend-kernteam-het-lef-6-4/
LOCATION:LLokaal met LEF\, Betaplein 18\, Leiden\, 2321 CS\, Nederland
CATEGORIES:Dwarslijn: AI,Dwarslijn: Duurzaamheid,Dwarslijn: Innoveren met LEF,Dwarslijn: Onderwijs in de Leidse regio,Dwarslijn: Welzijn,Zichtlijn Open Space,Zichtlijn: Anders samenwerken,Zichtlijn: Brede vorming
ATTACH;FMTTYPE=image/jpeg:https://www.leidenkennisstad.nl/hetlef/wp-content/uploads/2022/06/thumbnail_IMG_8365.jpg
END:VEVENT
BEGIN:VEVENT
DTSTART;TZID=Europe/Amsterdam:20270405T090000
DTEND;TZID=Europe/Amsterdam:20270405T110000
DTSTAMP:20260425T013451
CREATED:20260423T123513Z
LAST-MODIFIED:20260423T123513Z
UID:13589-1806915600-1806922800@www.leidenkennisstad.nl
SUMMARY:Samenwerkochtend kernteam het LEF #7
DESCRIPTION:Hoe maken we optimaal gebruik van elkaars perspectieven t.b.v. de uitdagingen die we in ons werk tegen komen? \nIn het kernteam van het LEF komen we elke maand samen tijdens de samenwerkochtend. \nTijdens deze ochtend inventariseren we kort welke uitdaging een ieder in zijn of haar zichtlijn of dwarslijn heeft waar je het perspectief van de ander nodig hebt. Dan maken we cross-overs en kijken wie met wie aan het werk gaat de komende 2 uur. \nSinds dat we deze vorm ontworpen hebben in het LEF is zowel de betrokkenheid als de aanwezigheid zeer hoog. We hebben elkaar nodig voor de uitdagingen waar we voor staan. \nHeb je een prangende vraag voor het kernteam van het LEF? Neem contact op met het LEF via info@hetlef.nl
URL:https://www.leidenkennisstad.nl/hetlef/evenement/samenwerkochtend-kernteam-het-lef-7-4/
LOCATION:LLokaal met LEF\, Betaplein 18\, Leiden\, 2321 CS\, Nederland
CATEGORIES:Dwarslijn: AI,Dwarslijn: Duurzaamheid,Dwarslijn: Innoveren met LEF,Dwarslijn: Onderwijs in de Leidse regio,Dwarslijn: Welzijn,Zichtlijn Open Space,Zichtlijn: Anders samenwerken,Zichtlijn: Brede vorming
ATTACH;FMTTYPE=image/jpeg:https://www.leidenkennisstad.nl/hetlef/wp-content/uploads/2022/06/thumbnail_IMG_8365.jpg
END:VEVENT
BEGIN:VEVENT
DTSTART;TZID=Europe/Amsterdam:20270510T090000
DTEND;TZID=Europe/Amsterdam:20270510T110000
DTSTAMP:20260425T013451
CREATED:20260423T123549Z
LAST-MODIFIED:20260423T123549Z
UID:13592-1809939600-1809946800@www.leidenkennisstad.nl
SUMMARY:Samenwerkochtend kernteam het LEF #8
DESCRIPTION:Hoe maken we optimaal gebruik van elkaars perspectieven t.b.v. de uitdagingen die we in ons werk tegen komen? \nIn het kernteam van het LEF komen we elke maand samen tijdens de samenwerkochtend. \nTijdens deze ochtend inventariseren we kort welke uitdaging een ieder in zijn of haar zichtlijn of dwarslijn heeft waar je het perspectief van de ander nodig hebt. Dan maken we cross-overs en kijken wie met wie aan het werk gaat de komende 2 uur. \nSinds dat we deze vorm ontworpen hebben in het LEF is zowel de betrokkenheid als de aanwezigheid zeer hoog. We hebben elkaar nodig voor de uitdagingen waar we voor staan. \nHeb je een prangende vraag voor het kernteam van het LEF? Neem contact op met het LEF via info@hetlef.nl
URL:https://www.leidenkennisstad.nl/hetlef/evenement/samenwerkochtend-kernteam-het-lef-8-3/
LOCATION:LLokaal met LEF\, Betaplein 18\, Leiden\, 2321 CS\, Nederland
CATEGORIES:Dwarslijn: AI,Dwarslijn: Duurzaamheid,Dwarslijn: Innoveren met LEF,Dwarslijn: Onderwijs in de Leidse regio,Dwarslijn: Welzijn,Zichtlijn Open Space,Zichtlijn: Anders samenwerken,Zichtlijn: Brede vorming
ATTACH;FMTTYPE=image/jpeg:https://www.leidenkennisstad.nl/hetlef/wp-content/uploads/2022/06/thumbnail_IMG_8365.jpg
END:VEVENT
BEGIN:VEVENT
DTSTART;TZID=Europe/Amsterdam:20270607T090000
DTEND;TZID=Europe/Amsterdam:20270607T110000
DTSTAMP:20260425T013451
CREATED:20260423T123618Z
LAST-MODIFIED:20260423T123618Z
UID:13595-1812358800-1812366000@www.leidenkennisstad.nl
SUMMARY:Samenwerkochtend kernteam het LEF #9
DESCRIPTION:Hoe maken we optimaal gebruik van elkaars perspectieven t.b.v. de uitdagingen die we in ons werk tegen komen? \nIn het kernteam van het LEF komen we elke maand samen tijdens de samenwerkochtend. \nTijdens deze ochtend inventariseren we kort welke uitdaging een ieder in zijn of haar zichtlijn of dwarslijn heeft waar je het perspectief van de ander nodig hebt. Dan maken we cross-overs en kijken wie met wie aan het werk gaat de komende 2 uur. \nSinds dat we deze vorm ontworpen hebben in het LEF is zowel de betrokkenheid als de aanwezigheid zeer hoog. We hebben elkaar nodig voor de uitdagingen waar we voor staan. \nHeb je een prangende vraag voor het kernteam van het LEF? Neem contact op met het LEF via info@hetlef.nl
URL:https://www.leidenkennisstad.nl/hetlef/evenement/samenwerkochtend-kernteam-het-lef-9-2/
LOCATION:LLokaal met LEF\, Betaplein 18\, Leiden\, 2321 CS\, Nederland
CATEGORIES:Dwarslijn: AI,Dwarslijn: Duurzaamheid,Dwarslijn: Innoveren met LEF,Dwarslijn: Onderwijs in de Leidse regio,Dwarslijn: Welzijn,Zichtlijn Open Space,Zichtlijn: Anders samenwerken,Zichtlijn: Brede vorming
ATTACH;FMTTYPE=image/jpeg:https://www.leidenkennisstad.nl/hetlef/wp-content/uploads/2022/06/thumbnail_IMG_8365.jpg
END:VEVENT
BEGIN:VEVENT
DTSTART;TZID=Europe/Amsterdam:20270623T123000
DTEND;TZID=Europe/Amsterdam:20270623T183000
DTSTAMP:20260425T013451
CREATED:20260423T112336Z
LAST-MODIFIED:20260423T112336Z
UID:13568-1813753800-1813775400@www.leidenkennisstad.nl
SUMMARY:LAIDEN Fest #3
DESCRIPTION:Een van de meest succesvolle evenementen van Leiden Nationale Onderwijsstad 2025 krijgt een tweede vervolg: L-AI-DEN FEST komt terug! Op woensdag 23 juni 2027 in Hogeschool Leiden brengen we onderwijs\, bedrijfsleven en innovatie samen rondom AI en de toekomst van werken en leren in Leiden als Kennisstad. \nHoud de website in de gaten: laidenfest.nl voor updates over het programma\, de sprekers én wanneer de tickets te claimen zijn. We kijken ernaar uit om er samen weer een inspirerende editie van te maken! \n  \nSamen er dwars doorheen. \nDat is de kracht van Leiden.
URL:https://www.leidenkennisstad.nl/hetlef/evenement/laiden-fest-2/
LOCATION:Hogeschool Leiden\, Zernikedreef 11\, Leiden\, Zuid-Holland\, 2333 CK
CATEGORIES:Dwarslijn: AI
ATTACH;FMTTYPE=image/png:https://www.leidenkennisstad.nl/hetlef/wp-content/uploads/2025/12/Projectlogo-AI.png
END:VEVENT
END:VCALENDAR