BEGIN:VCALENDAR
VERSION:2.0
PRODID:-//Het LEF - ECPv6.15.20//NONSGML v1.0//EN
CALSCALE:GREGORIAN
METHOD:PUBLISH
X-WR-CALNAME:Het LEF
X-ORIGINAL-URL:https://www.leidenkennisstad.nl/hetlef
X-WR-CALDESC:Evenementen voor Het LEF
REFRESH-INTERVAL;VALUE=DURATION:PT1H
X-Robots-Tag:noindex
X-PUBLISHED-TTL:PT1H
BEGIN:VTIMEZONE
TZID:Europe/Amsterdam
BEGIN:DAYLIGHT
TZOFFSETFROM:+0100
TZOFFSETTO:+0200
TZNAME:CEST
DTSTART:20250330T010000
END:DAYLIGHT
BEGIN:STANDARD
TZOFFSETFROM:+0200
TZOFFSETTO:+0100
TZNAME:CET
DTSTART:20251026T010000
END:STANDARD
BEGIN:DAYLIGHT
TZOFFSETFROM:+0100
TZOFFSETTO:+0200
TZNAME:CEST
DTSTART:20260329T010000
END:DAYLIGHT
BEGIN:STANDARD
TZOFFSETFROM:+0200
TZOFFSETTO:+0100
TZNAME:CET
DTSTART:20261025T010000
END:STANDARD
BEGIN:DAYLIGHT
TZOFFSETFROM:+0100
TZOFFSETTO:+0200
TZNAME:CEST
DTSTART:20270328T010000
END:DAYLIGHT
BEGIN:STANDARD
TZOFFSETFROM:+0200
TZOFFSETTO:+0100
TZNAME:CET
DTSTART:20271031T010000
END:STANDARD
END:VTIMEZONE
BEGIN:VEVENT
DTSTART;TZID=Europe/Amsterdam:20260128T170000
DTEND;TZID=Europe/Amsterdam:20260128T210000
DTSTAMP:20260420T033803
CREATED:20250219T081832Z
LAST-MODIFIED:20260114T215032Z
UID:11867-1769619600-1769634000@www.leidenkennisstad.nl
SUMMARY:Leidse Onderwijstafel met LEF #1 -2025/2026
DESCRIPTION:Gemeente Leiden organiseert in samenwerking met het LEF  ‘de Leidse onderwijstafel met LEF’. Dit is alweer de 22e editie maar de eerste van dit schooljaar. \nTijdens elke onderwijstafel staat er een thema centraal waar vertegenwoordigers van voorschoolse educatie\, po\, vo\, mbo\, hbo en wo en organisaties zoals JesRijnland\, Technolab\, Naturalis\, Verwonder om de hoek en Cultuur Educatie Groep nader samenwerken om kennis uit te wisselen en gezamenlijke initiatieven te organiseren. De onderwijstafel met LEF wordt in samenwerking met gemeente Leiden en het LEF steeds op een van de locaties van de Leidse instellingen georganiseerd en gehost. \nDeze onderwijstafel staat in het teken van afsluiten en vieren Leiden Nationale Onderwijsstad 2025\, vieren start 3e fase het LEF en de start van de nieuwe zichtlijn brede vorming en wordt gehost door Hogeschool Leiden. \nIntentie \nHet is onze intentie om deze Leidse Onderwijstafel met LEF onze zintuigen te openen – om te luisteren\, te zien\, te voelen en te ervaren wat Leiden Nationale Onderwijsstad 2025 (LNOS) ons heeft gebracht en wat het van ons vraagt om de Legacy van LNOS te blijven vormgeven. We onderzoeken hoe we samen richting gaan geven aan de zichtlijn brede vorming\, zodat we met daadkracht\, energie en vertrouwen handelen in de start van de derde fase van het LEF. \nWe gaan aan de slag met: \n\nVieren succes LNOS\nImpact meten LNOS\nStarten met Legacy Onderwijsstad\nVieren start 3e fase het LEF\nStart zichtlijn brede vorming het LEF\n\n  \n\n  \nDeze tafel is uitsluitend voor genodigden. Maar\, we hebben ook een aantal open tickets voor deze avond. Wil jij meedenken\, stuur dan je motivatie via de aanmeldknop direct aan Sanne van der Linden \n 
URL:https://www.leidenkennisstad.nl/hetlef/evenement/leidse-onderwijstafel-met-lef-1-2025-2026-2/
LOCATION:Hogeschool Leiden\, Zernikedreef 11\, Leiden\, Zuid-Holland\, 2333 CK
CATEGORIES:Leidse onderwijstafel met LEF,netwerkimpactmodel,Zichtlijn: Brede vorming
ATTACH;FMTTYPE=image/jpeg:https://www.leidenkennisstad.nl/hetlef/wp-content/uploads/2024/09/LLokaal-LEF-11092024.jpg
END:VEVENT
BEGIN:VEVENT
DTSTART;TZID=Europe/Amsterdam:20260210T084500
DTEND;TZID=Europe/Amsterdam:20260210T103000
DTSTAMP:20260420T033803
CREATED:20250624T143226Z
LAST-MODIFIED:20260127T121358Z
UID:12180-1770713100-1770719400@www.leidenkennisstad.nl
SUMMARY:Verkenners ontmoet verkenners #2
DESCRIPTION:Het verkennersteam van het LEF ontmoeten elkaar gedurende het school/studiejaar om samen dieper te duiken in de zicht- en dwarslijnen van het LEF. \nEen aantal verkenners ontwerpt en host samen met de zichthouders de verkenners ontmoeting. \nDeze keer gaan we starten met alle nieuwe zicht- en dwarslijnen. We delen met jullie de plannen en vormen netwerken rondom thema’s binnen deze lijnen. \nDus nodig je collega’s die betrokken zijn bij de thema’s van de zicht- en dwarslijnen actief uit! \nZichtlijnen: \n\nBrede vorming\nAnders samenwerken\nOpen Space\n\nDwarslijnen: \n\nInnoveren met LEF\nDuurzaamheid\nWelzijn\nOILR\nAI\n\n  \nVoor de dwarslijn Welzijn nemen we het rapport van de Onderwijsraad als rode draad tijdens de verkennersbijeenkomst op 10 februari https://www.onderwijsraad.nl/documenten/2026/01/15/welzijn-en-onderwijs) \n  \nVoel jij je verbonden met een van de zicht- of dwarslijnen? Dan ben je van harte welkom om aan te sluiten. \nWe nodigen de verkenners ook uit om de verbinders uit hun organisatie mee te nemen naar de verkenners ontmoeting. \n  \nWe starten met een informele inloop van 08.45-09.00 uur met koffie en thee. \nDe verkenners ontmoeting zelf vindt plaats van 09.00-10.30 uur \n 
URL:https://www.leidenkennisstad.nl/hetlef/evenement/verkenners-ontmoet-verkenners-2-4/
LOCATION:LLokaal met LEF\, Betaplein 18\, Leiden\, 2321 CS\, Nederland
CATEGORIES:Dwarslijn: AI,Dwarslijn: Duurzaamheid,Dwarslijn: Innoveren met LEF,Dwarslijn: Onderwijs in de Leidse regio,Dwarslijn: Welzijn,Zichtlijn Open Space,Zichtlijn: Anders samenwerken,Zichtlijn: Brede vorming,Zorgenderwijs met LEF
ATTACH;FMTTYPE=image/jpeg:https://www.leidenkennisstad.nl/hetlef/wp-content/uploads/2021/07/warren-wong-kMRMcUcO81M-unsplash1.jpg
END:VEVENT
BEGIN:VEVENT
DTSTART;TZID=Europe/Amsterdam:20260303T170000
DTEND;TZID=Europe/Amsterdam:20260303T190000
DTSTAMP:20260420T033803
CREATED:20251216T202525Z
LAST-MODIFIED:20260303T103525Z
UID:12839-1772557200-1772564400@www.leidenkennisstad.nl
SUMMARY:Het Leidse onderwijsdebat - AFGELAST
DESCRIPTION:Eerste Leidse Onderwijsdebat afgelast \n  \nHet eerste Leidse Onderwijsdebat\, dat op dinsdag 3 maart zou plaatsvinden\, gaat niet door. De organisatie van het debat ziet zich genoodzaakt het debat af te gelasten na serieuze aanwijzingen dat meerdere personen van plan zijn het debat te verstoren. Deze situatie leidt af van waar het tijdens de bijeenkomst over zou gaan\, namelijk onderwijshuisvesting en inclusie in het onderwijs. \nHet eerste Leidse Onderwijsdebat is een initiatief van Harry van Alphen (bestuurder SCOL)\, Paul Dirkse (bestuurder PROO) en Wim van der Veer (bestuurder Scholengroep Leonardo da Vinci) namens het Leidse onderwijs. Tijdens het debat zouden zij een pamflet met een aantal speerpunten voor de komende raadsperiode en coalitieonderhandelingen overhandigen aan alle partijen die meedoen aan de Leidse gemeenteraadsverkiezingen op 18 maart. Onderwijshuisvesting en inclusie staan in het pamflet centraal. Over deze onderwerpen zouden de kandidaat-raadsleden en de deelnemers met elkaar in gesprek gaan. Dat zouden zij doen in een bijeenkomst voor geïnteresseerden uit het onderwijsveld. \n  \nDit weekend werd duidelijk dat meerdere personen van plan zijn het debat te verstoren. Na overleg met de politie is besloten dat het onwenselijk is om het debat onder deze omstandigheden door te laten gaan. De organiserende bestuurders geven aan: ‘We nemen dit besluit niet lichtvaardig en met pijn in ons hart. Het gaat om het onderwijs en dus over de toekomst van kinderen in Leiden. Het is voor ons belangrijk onze knel- en speerpunten kenbaar te maken aan de partijen die de komende jaren deze stad besturen. Ook wilden wij graag van hen horen hoe zij tegen deze punten aankijken. We zijn enthousiast dat alle elf partijen zich hadden aangemeld voor dit debat en deze thema’s op de kaart wilden zetten. We zouden het goede gesprek met elkaar gaan voeren\, politieke partijen hun standpunt naar voren laten brengen\, voorbeelden noemen van de belangrijke verbeterpunten in Leiden in een positieve ambiance. Dit gesprek verdient de goede aandacht aan inclusiviteit en onderwijshuisvesting’. \nDe bestuurders zullen het pamflet alsnog aanbieden aan alle elf politieke partijen. Daarnaast stellen zij zich open om straks met een nieuwe coalitie het gesprek hierover te voeren. \nHet debat stond gepland voor dinsdag 3 maart 2026 van 17.00 tot 19.00 uur.
URL:https://www.leidenkennisstad.nl/hetlef/evenement/het-leidse-onderwijsdebat/
LOCATION:LLokaal met LEF\, Betaplein 18\, Leiden\, 2321 CS\, Nederland
CATEGORIES:Zichtlijn Open Space,Zichtlijn: Anders samenwerken
ATTACH;FMTTYPE=image/png:https://www.leidenkennisstad.nl/hetlef/wp-content/uploads/2025/12/Projectlogo-Open-space.png
END:VEVENT
BEGIN:VEVENT
DTSTART;TZID=Europe/Amsterdam:20260407T084500
DTEND;TZID=Europe/Amsterdam:20260407T103000
DTSTAMP:20260420T033803
CREATED:20250624T143346Z
LAST-MODIFIED:20260323T150333Z
UID:12183-1775551500-1775557800@www.leidenkennisstad.nl
SUMMARY:Verkenners ontmoet verkenners #3
DESCRIPTION:Het verkennersteam van het LEF ontmoeten elkaar gedurende het school/studiejaar om samen dieper te duiken in de zicht en dwarslijnen van het LEF via de net opgestarte netwerken rondom deze zicht en dwarslijnen. \nZichtlijnen: \n\nBrede vorming\nAnders samenwerken\nOpen Space\n\nDwarslijnen: \n\nInnoveren met LEF\nDuurzaamheid\nWelzijn\nOILR\nAI\n\n  \nWat gaan we doen? \nBekijk hier het programma voor de verkennersontmoeting en zie wat elk netwerk van de zichtlijn of dwarslijn gaat doen. \n  \nVoel jij je verbonden met de zicht- of dwarslijnen? Dan ben je van harte welkom om aan te sluiten. \nWe nodigen de verkenners ook uit om de verbinders uit hun organisatie mee te nemen naar de verkenners ontmoeting. \n  \nWe starten met een informele inloop van 08.45-09.00 uur met koffie en thee. \nDe verkenners ontmoeting zelf vindt plaats van 09.00-10.30 uur \n 
URL:https://www.leidenkennisstad.nl/hetlef/evenement/verkenners-ontmoet-verkenners-3-3/
LOCATION:LLokaal met LEF\, Betaplein 18\, Leiden\, 2321 CS\, Nederland
CATEGORIES:Dwarslijn: AI,Dwarslijn: Duurzaamheid,Dwarslijn: Innoveren met LEF,Dwarslijn: Onderwijs in de Leidse regio,Zichtlijn Open Space,Zichtlijn: Anders samenwerken,Zichtlijn: Brede vorming,Zorgenderwijs met LEF
ATTACH;FMTTYPE=image/jpeg:https://www.leidenkennisstad.nl/hetlef/wp-content/uploads/2021/07/warren-wong-kMRMcUcO81M-unsplash1.jpg
END:VEVENT
BEGIN:VEVENT
DTSTART;TZID=Europe/Amsterdam:20260413T090000
DTEND;TZID=Europe/Amsterdam:20260413T110000
DTSTAMP:20260420T033803
CREATED:20250527T110903Z
LAST-MODIFIED:20260324T134748Z
UID:12112-1776070800-1776078000@www.leidenkennisstad.nl
SUMMARY:Samenwerkochtend kernteam het LEF #7
DESCRIPTION:Hoe maken we optimaal gebruik van elkaars perspectieven t.b.v. de uitdagingen die we in ons werk tegen komen? \nIn het kernteam van het LEF komen we elke maand samen tijdens de samenwerkochtend. \nTijdens deze ochtend inventariseren we kort welke uitdaging een ieder in zijn of haar werk heeft waar je het perspectief van de ander nodig hebt. Dan maken we via ons Miro bord cross-overs en kijken wie met wie aan het werk gaat de komende 2 uur. \nSinds dat we deze vorm ontworpen hebben in het LEF is zowel de betrokkenheid als de aanwezigheid zeer hoog. We hebben elkaar nodig voor de uitdagingen waar we voor staan. \nHeb je een prangende vraag voor het kernteam van het LEF? Neem contact op met het LEF via info@hetlef.nl
URL:https://www.leidenkennisstad.nl/hetlef/evenement/samenwerkochtend-kernteam-het-lef-7-3/
LOCATION:LLokaal met LEF\, Betaplein 18\, Leiden\, 2321 CS\, Nederland
CATEGORIES:Dwarslijn: AI,Dwarslijn: Duurzaamheid,Dwarslijn: Innoveren met LEF,Dwarslijn: Onderwijs in de Leidse regio,Dwarslijn: Welzijn,Zichtlijn Open Space,Zichtlijn: Anders samenwerken,Zichtlijn: Brede vorming
ATTACH;FMTTYPE=image/jpeg:https://www.leidenkennisstad.nl/hetlef/wp-content/uploads/2022/06/thumbnail_IMG_8365.jpg
END:VEVENT
BEGIN:VEVENT
DTSTART;TZID=Europe/Amsterdam:20260513T150000
DTEND;TZID=Europe/Amsterdam:20260513T163000
DTSTAMP:20260420T033803
CREATED:20260409T142541Z
LAST-MODIFIED:20260413T074935Z
UID:13502-1778684400-1778689800@www.leidenkennisstad.nl
SUMMARY:LAIDEN Fest pre-sessie #1
DESCRIPTION:Professionalisering in het AI tijdperk\nStel je voor: een nieuwe AI-tool verschijnt op het toneel. Is je eerste gedachte: “Hoe werkt de knop?” of “Wat betekent dit voor mijn vakmanschap?” Vaak blijven we hangen in de techniek\, terwijl de echte uitdaging ergens anders ligt. \nDigitalisering en AI raken namelijk aan de kern van ons werk: ons professioneel handelen\, onze samenwerking en het onderlinge vertrouwen binnen de school. We moeten van enkel ‘weten dat het bestaat’ naar ‘verantwoord handelen in de praktijk’. \nWaarom je deze sessie niet wilt missen\nAls educatief professional sta je voor een boeiende uitdaging. Hoe ga je bewust en integer om met technologie in de dagelijkse praktijk\, zonder dat de machine de regie overneemt? Professionalisering helpt om onzekerheid om te zetten in handelingsperspectief. Ter voorbereiding op het grote LAIDEN Fest op 17 juni organiseren we twee pre-sessies (op 13 en 28 mei). \nTijdens deze eerste pre-sessie gaan we samen met NOBRAINERS aan de slag: \nOnzekerheid ombuigen: We vertalen de snelle technologische ontwikkelingen naar wat het concreet betekent voor jouw rol\, jouw vak en jouw team.\nDe menselijke maat: We verkennen hoe je technologie benut op een manier die past bij de mensen in het onderwijs.\nSamen leren: Geen droge presentatie\, maar ervaringen delen en ruimte creëren voor echte vernieuwing. \n🎁 Exclusieve winactie: Breng de NOBRAINERS naar jouw school! \nWe geloven in de kracht van doen. Daarom verloten we onder de aanwezigen van deze middag een GRATIS sessie van de NOBRAINERS op jouw school! Jjij kiest het onderwerp dat voor jullie passend is. Let op: je maakt alleen kans als je deze middag fysiek aanwezig bent! \nEr is een beperkt aantal plekken\, dus meld je snel aan via onderstaande knop!
URL:https://www.leidenkennisstad.nl/hetlef/evenement/laiden-fest-pre-sessie-1/
LOCATION:LLokaal met LEF\, Betaplein 18\, Leiden\, 2321 CS\, Nederland
CATEGORIES:Dwarslijn: AI,LEF Kennis Café,Lezen met LEF
ATTACH;FMTTYPE=image/png:https://www.leidenkennisstad.nl/hetlef/wp-content/uploads/2026/04/Jan_Nobrianers_linkedIn.png
END:VEVENT
BEGIN:VEVENT
DTSTART;TZID=Europe/Amsterdam:20260520T170000
DTEND;TZID=Europe/Amsterdam:20260520T210000
DTSTAMP:20260420T033803
CREATED:20250930T160045Z
LAST-MODIFIED:20251216T203651Z
UID:12437-1779296400-1779310800@www.leidenkennisstad.nl
SUMMARY:Leidse Onderwijstafel met LEF #2 -2025/2026
DESCRIPTION:Gemeente Leiden organiseert in samenwerking met het LEF  ‘de Leidse onderwijstafel met LEF’. Dit is alweer de 22e editie maar de eerste van dit schooljaar. \nTijdens elke onderwijstafel staat er een thema centraal waar vertegenwoordigers van voorschoolse educatie\, po\, vo\, mbo\, hbo en wo en organisaties zoals JesRijnland\, Technolab\, Naturalis\, Verwonder om de hoek en Cultuur Educatie Groep nader samenwerken om kennis uit te wisselen en gezamenlijke initiatieven te organiseren. De onderwijstafel met LEF wordt in samenwerking met gemeente Leiden en het LEF steeds op een van de locaties van de Leidse instellingen georganiseerd en gehost. \n  \nHet gespecificeerde programma volgt nog. \nDeze tafel is uitsluitend voor genodigden. \n 
URL:https://www.leidenkennisstad.nl/hetlef/evenement/leidse-onderwijstafel-met-lef-2-2025-2026/
CATEGORIES:Leidse onderwijstafel met LEF,Zichtlijn Open Space
ATTACH;FMTTYPE=image/jpeg:https://www.leidenkennisstad.nl/hetlef/wp-content/uploads/2024/09/LLokaal-LEF-11092024.jpg
END:VEVENT
BEGIN:VEVENT
DTSTART;TZID=Europe/Amsterdam:20260528T153000
DTEND;TZID=Europe/Amsterdam:20260528T170000
DTSTAMP:20260420T033803
CREATED:20260409T101522Z
LAST-MODIFIED:20260409T133949Z
UID:13482-1779982200-1779987600@www.leidenkennisstad.nl
SUMMARY:LAIDEN Fest pre-sessie #2
DESCRIPTION:Een pleidooi voor menswaardig onderwijs in het AI-tijdperk\nAI is overal\, maar wat betekent het nu echt voor ons werk\, ons leren en onze samenleving? Of je al dagelijks met prompts strooit of juist grote vraagtekens zet bij de snelle opmars van algoritmes: deze middag is voor jou. \nTer voorbereiding op het grote LAIDEN Fest op 17 juni duiken we op 28 mei de diepte in. Niet om antwoorden te serveren\, maar om te inspireren\, te informeren en bovenal te intrigeren. \nWat kun je verwachten?\nJan Jaap Hubeek\, directeur-bestuurder van Stichting NIVOZ en schrijver van het boek ‘Mens blijven tussen systemen’\, neemt ons mee in zijn wereld. Hij deelt zijn visie op de verhouding tussen mens en de snelle exponentiele technologische ontwikkelingen\, máár verwacht geen eenrichtingsverkeer. \nDe middag heeft drie lagen: \nInspiratie: Een frisse blik op de kansen én de spanningen van AI in onderwijs en samenleving. \nInteractie: Jouw fantastische worsteling. We werken met een werkvorm die de cultuur van snel oplossen en succes tonen doorbreekt. De centrale vraag is simpel\, maar allesbehalve gemakkelijk: Waar worstel jij rondom AI in jouw onderwijs mee? Wat schuurt er? Wat is nog onvoltooid? Waar zit twijfel? Wat vraagt moed\, geduld of oefening? Wat lukt nog niet\, maar is wél belangrijk? In kleine groepjes luisteren we nieuwsgierig naar elkaar\, stellen we open vragen en sluiten we af met: Mijn worsteling is waardevol omdat… Zo verschuift de middag van probleemdenken naar vorming\, moed en professionele groei. \nKennis: Je gaat naar huis met een rugzak vol inzichten\, zodat je op 17 juni met een voorsprong LAIDEN Fest bezoekt. \nGeen vraag is te gek\, geen weerstand te groot. Dat is precies waar we het over willen hebben. \n🎁 Onder de deelnemers verloten we twee exemplaren van Jan Jaaps boek. \nEr is een beperkt aantal plekken\, dus meld je snel aan via onderstaande knop!
URL:https://www.leidenkennisstad.nl/hetlef/evenement/laiden-fest-pre-sessie-2/
LOCATION:LLokaal met LEF\, Betaplein 18\, Leiden\, 2321 CS\, Nederland
CATEGORIES:Dwarslijn: AI,LEF Kennis Café,Lezen met LEF
ATTACH;FMTTYPE=image/jpeg:https://www.leidenkennisstad.nl/hetlef/wp-content/uploads/2026/04/Mens-blijven-tussen-systemen-e1775729698875.jpg
END:VEVENT
BEGIN:VEVENT
DTSTART;TZID=Europe/Amsterdam:20260602T084500
DTEND;TZID=Europe/Amsterdam:20260602T103000
DTSTAMP:20260420T033803
CREATED:20250624T143443Z
LAST-MODIFIED:20260316T153030Z
UID:12186-1780389900-1780396200@www.leidenkennisstad.nl
SUMMARY:Verkenners ontmoet verkenners #4
DESCRIPTION:Het verkennersteam van het LEF ontmoeten elkaar gedurende het school/studiejaar om samen dieper te duiken in de zicht en dwarslijnen van het LEF via de net opgestarte netwerken rondom deze zicht en dwarslijnen. \nZichtlijnen: \n\nBrede vorming\nAnders samenwerken\nOpen Space\n\nDwarslijnen: \n\nInnoveren met LEF\nDuurzaamheid\nWelzijn\nOILR\nAI\n\n  \nVoel jij je verbonden met de zicht- of dwarslijnen? Dan ben je van harte welkom om aan te sluiten. \nWe nodigen de verkenners ook uit om de verbinders uit hun organisatie mee te nemen naar de verkenners ontmoeting. \n  \nWe starten met een informele inloop van 08.45-09.00 uur met koffie en thee. \nDe verkenners ontmoeting zelf vindt plaats van 09.00-10.30 uur \n 
URL:https://www.leidenkennisstad.nl/hetlef/evenement/verkenners-ontmoet-verkenners-4-2/
LOCATION:LLokaal met LEF\, Betaplein 18\, Leiden\, 2321 CS\, Nederland
CATEGORIES:Dwarslijn: AI,Dwarslijn: Duurzaamheid,Dwarslijn: Innoveren met LEF,Dwarslijn: Onderwijs in de Leidse regio,Dwarslijn: Welzijn,Zichtlijn Open Space,Zichtlijn: Anders samenwerken,Zichtlijn: Brede vorming
ATTACH;FMTTYPE=image/jpeg:https://www.leidenkennisstad.nl/hetlef/wp-content/uploads/2021/07/warren-wong-kMRMcUcO81M-unsplash1.jpg
END:VEVENT
BEGIN:VEVENT
DTSTART;TZID=Europe/Amsterdam:20260608T090000
DTEND;TZID=Europe/Amsterdam:20260608T110000
DTSTAMP:20260420T033803
CREATED:20250527T111019Z
LAST-MODIFIED:20260409T103028Z
UID:12115-1780909200-1780916400@www.leidenkennisstad.nl
SUMMARY:Samenwerkochtend kernteam het LEF #8
DESCRIPTION:Hoe maken we optimaal gebruik van elkaars perspectieven t.b.v. de uitdagingen die we in ons werk tegen komen? \nIn het kernteam van het LEF komen we elke maand samen tijdens de samenwerkochtend. \nTijdens deze ochtend inventariseren we kort welke uitdaging een ieder in zijn of haar werk heeft waar je het perspectief van de ander nodig hebt. Dan maken we via ons Miro bord cross-overs en kijken wie met wie aan het werk gaat de komende 2 uur. \nSinds dat we deze vorm ontworpen hebben in het LEF is zowel de betrokkenheid als de aanwezigheid zeer hoog. We hebben elkaar nodig voor de uitdagingen waar we voor staan. \nHeb je een prangende vraag voor het kernteam van het LEF? Neem contact op met het LEF via info@hetlef.nl
URL:https://www.leidenkennisstad.nl/hetlef/evenement/samenwerkochtend-kernteam-het-lef-8-2/
LOCATION:LLokaal met LEF\, Betaplein 18\, Leiden\, 2321 CS\, Nederland
CATEGORIES:Dwarslijn: AI,Dwarslijn: Duurzaamheid,Dwarslijn: Innoveren met LEF,Dwarslijn: Onderwijs in de Leidse regio,Dwarslijn: Welzijn,Zichtlijn Open Space,Zichtlijn: Anders samenwerken,Zichtlijn: Brede vorming
ATTACH;FMTTYPE=image/jpeg:https://www.leidenkennisstad.nl/hetlef/wp-content/uploads/2022/06/thumbnail_IMG_8365.jpg
END:VEVENT
BEGIN:VEVENT
DTSTART;TZID=Europe/Amsterdam:20260921T090000
DTEND;TZID=Europe/Amsterdam:20260921T103000
DTSTAMP:20260420T033803
CREATED:20260416T140544Z
LAST-MODIFIED:20260416T140634Z
UID:13537-1789981200-1789986600@www.leidenkennisstad.nl
SUMMARY:LEF start!
DESCRIPTION:Op 21 september trappen we met elkaar het nieuwe school- en studiejaar af tijdens de jaarlijkse startbijeenkomst van LEF. Dit is het moment waarop sponsoren\, verkenners en verbinders samenkomen om elkaar te ontmoeten\, inzichten te delen en vooruit te kijken naar het komende jaar. \nWe zorgen voor een inspirerende start\, met ruimte voor ontmoeting\, uitwisseling en het versterken van ons netwerk. \nProgramma08.45 – 09.00 uur: Inloop met koffie\, thee en iets lekkers09.00 – 10.30 uur: Inhoudelijk programma (volgt) \nAlle sponsoren en verkenners ontvangen een persoonlijke uitnodiging vanuit LEF.Wil je graag aansluiten? Neem dan contact op met Sanne van der Linden via linden.vd.s@hsleiden.nl
URL:https://www.leidenkennisstad.nl/hetlef/evenement/lef-start-2026/
LOCATION:LLokaal met LEF\, Betaplein 18\, Leiden\, 2321 CS\, Nederland
CATEGORIES:Dwarslijn: AI,Dwarslijn: Duurzaamheid,Dwarslijn: Innoveren met LEF,Dwarslijn: Onderwijs in de Leidse regio,Dwarslijn: Welzijn,LEF Kennis Café,Zichtlijn Open Space,Zichtlijn: Anders samenwerken,Zichtlijn: Brede vorming
ATTACH;FMTTYPE=image/jpeg:https://www.leidenkennisstad.nl/hetlef/wp-content/uploads/2025/01/unnamed.jpg
ORGANIZER;CN="het LEF":MAILTO:info@hetlef.nl
END:VEVENT
END:VCALENDAR