BEGIN:VCALENDAR
VERSION:2.0
PRODID:-//Het LEF - ECPv6.15.20//NONSGML v1.0//EN
CALSCALE:GREGORIAN
METHOD:PUBLISH
X-ORIGINAL-URL:https://www.leidenkennisstad.nl/hetlef
X-WR-CALDESC:Evenementen voor Het LEF
REFRESH-INTERVAL;VALUE=DURATION:PT1H
X-Robots-Tag:noindex
X-PUBLISHED-TTL:PT1H
BEGIN:VTIMEZONE
TZID:Europe/Amsterdam
BEGIN:DAYLIGHT
TZOFFSETFROM:+0100
TZOFFSETTO:+0200
TZNAME:CEST
DTSTART:20210328T010000
END:DAYLIGHT
BEGIN:STANDARD
TZOFFSETFROM:+0200
TZOFFSETTO:+0100
TZNAME:CET
DTSTART:20211031T010000
END:STANDARD
BEGIN:DAYLIGHT
TZOFFSETFROM:+0100
TZOFFSETTO:+0200
TZNAME:CEST
DTSTART:20220327T010000
END:DAYLIGHT
BEGIN:STANDARD
TZOFFSETFROM:+0200
TZOFFSETTO:+0100
TZNAME:CET
DTSTART:20221030T010000
END:STANDARD
BEGIN:DAYLIGHT
TZOFFSETFROM:+0100
TZOFFSETTO:+0200
TZNAME:CEST
DTSTART:20230326T010000
END:DAYLIGHT
BEGIN:STANDARD
TZOFFSETFROM:+0200
TZOFFSETTO:+0100
TZNAME:CET
DTSTART:20231029T010000
END:STANDARD
BEGIN:DAYLIGHT
TZOFFSETFROM:+0100
TZOFFSETTO:+0200
TZNAME:CEST
DTSTART:20240331T010000
END:DAYLIGHT
BEGIN:STANDARD
TZOFFSETFROM:+0200
TZOFFSETTO:+0100
TZNAME:CET
DTSTART:20241027T010000
END:STANDARD
BEGIN:DAYLIGHT
TZOFFSETFROM:+0100
TZOFFSETTO:+0200
TZNAME:CEST
DTSTART:20250330T010000
END:DAYLIGHT
BEGIN:STANDARD
TZOFFSETFROM:+0200
TZOFFSETTO:+0100
TZNAME:CET
DTSTART:20251026T010000
END:STANDARD
BEGIN:DAYLIGHT
TZOFFSETFROM:+0100
TZOFFSETTO:+0200
TZNAME:CEST
DTSTART:20260329T010000
END:DAYLIGHT
BEGIN:STANDARD
TZOFFSETFROM:+0200
TZOFFSETTO:+0100
TZNAME:CET
DTSTART:20261025T010000
END:STANDARD
BEGIN:DAYLIGHT
TZOFFSETFROM:+0100
TZOFFSETTO:+0200
TZNAME:CEST
DTSTART:20270328T010000
END:DAYLIGHT
BEGIN:STANDARD
TZOFFSETFROM:+0200
TZOFFSETTO:+0100
TZNAME:CET
DTSTART:20271031T010000
END:STANDARD
END:VTIMEZONE
BEGIN:VEVENT
DTSTART;TZID=Europe/Amsterdam:20260128T170000
DTEND;TZID=Europe/Amsterdam:20260128T210000
DTSTAMP:20260420T023336
CREATED:20250219T081832Z
LAST-MODIFIED:20260114T215032Z
UID:11867-1769619600-1769634000@www.leidenkennisstad.nl
SUMMARY:Leidse Onderwijstafel met LEF #1 -2025/2026
DESCRIPTION:Gemeente Leiden organiseert in samenwerking met het LEF  ‘de Leidse onderwijstafel met LEF’. Dit is alweer de 22e editie maar de eerste van dit schooljaar. \nTijdens elke onderwijstafel staat er een thema centraal waar vertegenwoordigers van voorschoolse educatie\, po\, vo\, mbo\, hbo en wo en organisaties zoals JesRijnland\, Technolab\, Naturalis\, Verwonder om de hoek en Cultuur Educatie Groep nader samenwerken om kennis uit te wisselen en gezamenlijke initiatieven te organiseren. De onderwijstafel met LEF wordt in samenwerking met gemeente Leiden en het LEF steeds op een van de locaties van de Leidse instellingen georganiseerd en gehost. \nDeze onderwijstafel staat in het teken van afsluiten en vieren Leiden Nationale Onderwijsstad 2025\, vieren start 3e fase het LEF en de start van de nieuwe zichtlijn brede vorming en wordt gehost door Hogeschool Leiden. \nIntentie \nHet is onze intentie om deze Leidse Onderwijstafel met LEF onze zintuigen te openen – om te luisteren\, te zien\, te voelen en te ervaren wat Leiden Nationale Onderwijsstad 2025 (LNOS) ons heeft gebracht en wat het van ons vraagt om de Legacy van LNOS te blijven vormgeven. We onderzoeken hoe we samen richting gaan geven aan de zichtlijn brede vorming\, zodat we met daadkracht\, energie en vertrouwen handelen in de start van de derde fase van het LEF. \nWe gaan aan de slag met: \n\nVieren succes LNOS\nImpact meten LNOS\nStarten met Legacy Onderwijsstad\nVieren start 3e fase het LEF\nStart zichtlijn brede vorming het LEF\n\n  \n\n  \nDeze tafel is uitsluitend voor genodigden. Maar\, we hebben ook een aantal open tickets voor deze avond. Wil jij meedenken\, stuur dan je motivatie via de aanmeldknop direct aan Sanne van der Linden \n 
URL:https://www.leidenkennisstad.nl/hetlef/evenement/leidse-onderwijstafel-met-lef-1-2025-2026-2/
LOCATION:Hogeschool Leiden\, Zernikedreef 11\, Leiden\, Zuid-Holland\, 2333 CK
CATEGORIES:Leidse onderwijstafel met LEF,netwerkimpactmodel,Zichtlijn: Brede vorming
ATTACH;FMTTYPE=image/jpeg:https://www.leidenkennisstad.nl/hetlef/wp-content/uploads/2024/09/LLokaal-LEF-11092024.jpg
END:VEVENT
BEGIN:VEVENT
DTSTART;TZID=Europe/Amsterdam:20250409T170000
DTEND;TZID=Europe/Amsterdam:20250409T200000
DTSTAMP:20260420T023336
CREATED:20230511T124105Z
LAST-MODIFIED:20241023T184238Z
UID:9016-1744218000-1744228800@www.leidenkennisstad.nl
SUMMARY:Leidse Onderwijstafel met LEF #2 -2024/2025
DESCRIPTION:Gemeente Leiden organiseert in samenwerking met het LEF  ‘de Leidse onderwijstafel met LEF’. Dit is alweer de 21e editie maar de tweede van dit schooljaar. \nTijdens elke onderwijstafel staat er een thema centraal waar vertegenwoordigers van voorschoolse educatie\, po\, vo\, mbo\, hbo en wo en organisaties zoals JesRijnland\, Technolab\, Naturalis\, Verwonder om de hoek en Cultuur Educatie Groep nader samenwerken om kennis uit te wisselen en gezamenlijke initiatieven te organiseren. De onderwijstafel met LEF wordt in samenwerking met gemeente Leiden en het LEF steeds op een van de locaties van de Leidse instellingen georganiseerd en gehost. \nDeze onderwijstafel staat in het teken van het ontwerpen van de nieuwe zichtlijnen voor de 3e fase (2026-2030) van het LEF. Samen met het hele Leidse onderwijsveld willen we echt een impact aanjagen vanuit het LEF. Hiervoor benutten we actief de diverse perspectieven en vraagstukken van onze partners door samen met hen te programmeren\, onderzoeken en innoveren. Onze vijf zichtlijnen sturen niet alleen onze werkwijze\, maar verbinden ook de strategische agenda’s naadloos aan elkaar. \nAan het einde van Leiden Nationale Onderwijsstad vieren we de afronding van de 2e fase van het LEF (2022-2025) en ronden we onze huidige zichtlijnen af. Tijd om samen tijdens deze onderwijstafel in gesprek te gaan en te verkennen welk verschil we samen willen maken in de 3e fase van het LEF. \nDeze tafel is uitsluitend voor genodigden. Maar\, we hebben ook een aantal open tickets voor deze avond. Wil jij meedenken\, stuur dan je motivatie naar de organisatoren van deze avond: Jessica Hilhorst en Sanne van der Linden.
URL:https://www.leidenkennisstad.nl/hetlef/evenement/leidse-onderwijstafel-met-lef-1/
LOCATION:Het LEF\, Bètaplein 18\, Leiden\, Zuid-Holland\, 2321 CS
CATEGORIES:Leidse onderwijstafel met LEF
ATTACH;FMTTYPE=image/png:https://www.leidenkennisstad.nl/hetlef/wp-content/uploads/2023/06/LeidenKennisstad.png
END:VEVENT
BEGIN:VEVENT
DTSTART;TZID=Europe/Amsterdam:20241016T170000
DTEND;TZID=Europe/Amsterdam:20241016T210000
DTSTAMP:20260420T023336
CREATED:20240522T124210Z
LAST-MODIFIED:20240927T175351Z
UID:10783-1729098000-1729112400@www.leidenkennisstad.nl
SUMMARY:Leidse Onderwijstafel met LEF #1 -2024/2025
DESCRIPTION:Gemeente Leiden organiseert in samenwerking met het LEF ‘de Leidse onderwijstafel met LEF’. Dit is alweer de 20e editie maar de eerste van dit schooljaar. \nTijdens elke onderwijstafel staat er een thema centraal waar vertegenwoordigers van voorschoolse educatie\, po\, vo\, mbo\, hbo en wo en organisaties zoals JesRijnland\, Technolab\, Naturalis\, Verwonder om de hoek en Cultuur Educatie Groep nader samenwerken om kennis uit te wisselen en gezamenlijke initiatieven te organiseren. De onderwijstafel met LEF wordt in samenwerking met gemeente Leiden en het LEF steeds op een van de locaties van de Leidse instellingen georganiseerd en gehost. \nDeze tafel is uitsluitend voor genodigden.
URL:https://www.leidenkennisstad.nl/hetlef/evenement/leidse-onderwijstafel-met-lef-1-2024-2025/
LOCATION:Faculty Club Leiden
CATEGORIES:Leidse onderwijstafel met LEF
ATTACH;FMTTYPE=image/png:https://www.leidenkennisstad.nl/hetlef/wp-content/uploads/2023/06/LeidenKennisstad.png
END:VEVENT
BEGIN:VEVENT
DTSTART;TZID=Europe/Amsterdam:20240417T170000
DTEND;TZID=Europe/Amsterdam:20240417T210000
DTSTAMP:20260420T023336
CREATED:20230511T124134Z
LAST-MODIFIED:20231005T083400Z
UID:9019-1713373200-1713387600@www.leidenkennisstad.nl
SUMMARY:Leidse Onderwijstafel met LEF #2 - 2023/2024
DESCRIPTION:Gemeente Leiden organiseert in samenwerking met het LEF ‘de Leidse onderwijstafel met LEF’. Tijdens elke onderwijstafel staat er een thema centraal waar vertegenwoordigers van voorschoolse educatie\, po\, vo\, mbo\, hbo en wo en organisaties zoals JesRijnland\, Technolab\, Naturalis\, Verwonder om de hoek en Cultuur Educatie Groep nader samenwerken om kennis uit te wisselen en gezamenlijke initiatieven te organiseren. De onderwijstafel met LEF wordt in samenwerking met gemeente Leiden en het LEF steeds op een van de locaties van de Leidse instellingen georganiseerd en gehost.
URL:https://www.leidenkennisstad.nl/hetlef/evenement/leidse-onderwijstafel-met-lef-2/
CATEGORIES:Leidse onderwijstafel met LEF
ATTACH;FMTTYPE=image/png:https://www.leidenkennisstad.nl/hetlef/wp-content/uploads/2023/06/LeidenKennisstad.png
END:VEVENT
BEGIN:VEVENT
DTSTART;TZID=Europe/Amsterdam:20230412T170000
DTEND;TZID=Europe/Amsterdam:20230412T203000
DTSTAMP:20260420T023336
CREATED:20230126T093456Z
LAST-MODIFIED:20230320T161942Z
UID:8446-1681318800-1681331400@www.leidenkennisstad.nl
SUMMARY:De Leidse onderwijstafel met LEF
DESCRIPTION:Het thema van deze onderwijstafel is: \nLeren door te doen: Samenwerken in veranderend onderwijs \nWe zijn dit keer te gast bij Technolab. \nTijdens de avond krijgen we een inkijkje in hoe onderwijs en onderwijspartners nu al samenwerken binnen de vraagstukken rondom anders organiseren\, het aantrekken van mensen voor het onderwijs\, talentontwikkeling en digitale geletterdheid. Wat kunnen we leren van hun gezamenlijk perspectief in het omgaan met de uitdagingen en kansen in het onderwijs? \nDe invulling van de avond doet Technolab samen met partners van de LiS\, mboRijnland\, Marecollege\, Stedelijk Gymnasium\, Jenaplanschool de Kring en Hogeschool Leiden. \nHet belooft weer een inspirerende en interactieve avond te worden die mooi in beeld brengt wat we samen kunnen doen als onderwijspartners in onze vraagstukken en uitdagingen. \n  \nDe definitieve agenda ontvangen jullie binnenkort. \n  \nHartelijke groet\, \n  \nBen Schippers (Technolab) \nChantal Goes (Technolab)  \nSanne van der Linden (LEF) \nJessica Hilhorst (gemeente Leiden)
URL:https://www.leidenkennisstad.nl/hetlef/evenement/de-leidse-onderwijstafel-met-lef/
LOCATION:Technolab Leiden\, Betaplein 28\, Leiden\, Zuid-Holland\, 2312KS\, Nederland
CATEGORIES:Leidse onderwijstafel met LEF
ATTACH;FMTTYPE=image/jpeg:https://www.leidenkennisstad.nl/hetlef/wp-content/uploads/2023/01/LeidenKennisstad.jpg
END:VEVENT
BEGIN:VEVENT
DTSTART;TZID=Europe/Amsterdam:20221109T170000
DTEND;TZID=Europe/Amsterdam:20221109T200000
DTSTAMP:20260420T023336
CREATED:20221028T082057Z
LAST-MODIFIED:20221028T082057Z
UID:7577-1668013200-1668024000@www.leidenkennisstad.nl
SUMMARY:Leidse onderwijstafel met LEF
DESCRIPTION:De Leidse Onderwijstafel met LEF \nHet is alweer een hele tijd geleden dat de laatste onderwijstafel plaats vond\, namelijk op 14 februari 2020. Toen volgde de lockdown waardoor we in de afgelopen jaren geen onderwijstafel hebben kunnen houden ​of we het niet passend vonden om deze te houden.  Inmiddels lijkt alles weer ‘normaal’ en willen we ook weer vervolg geven aan de onderwijstafel\, maar wel in een iets andere setting. \nNog even terug…. \nDe onderwijstafel is opgericht in 2016. We hadden met elkaar de behoefte om in een laagdrempelige setting elkaar te ontmoeten en te spreken over de gezamenlijke uitdagingen op ons pad. Denk hierbij aan thema’s als lerarentekort\, internationalisering\, aansluiting speciaal onderwijs aan onderwijs en de Sustainable Development Goals als paraplu voor gezamenlijke opgaven. We realiseerden ons dat er weliswaar diverse overlegtafels (bestuurlijk overleg met middelbaar\, speciaal en basisonderwijs) waren maar nergens kwamen alle geledingen van het Leidse onderwijs samen. We zagen de meerwaarde van een onderwijstafel\, zeker in het licht van Leiden als kennis- en onderwijsstad. \nDe onderwijstafel vond 3x per jaar plaats en werd gefaciliteerd en georganiseerd door de gemeente Leiden\, inhoudelijk samen met het onderwijs vorm gegeven. \nInvulling was altijd interactief\, laagdrempelig en met een goed gevulde maag\, waarbij 1 van de partners als gastheer/-vrouw optrad. We kregen altijd enthousiaste reacties en haalde ​als gemeente zelf ook veel energie uit deze bijeenkomsten. \n\nIntussen…. \nOprichting ​het LEF \nIn 201​7 ontstond de eerste gedachte voor de oprichting van het LEF (Leiden Education Fieldlab) als een van de initiatieven vanuit de samenwerking kennisstad. Het doel was om een ontmoetingsplek te creëren voor het hele onderwijs\, een platform om te inspireren en om innovatie in onderwijsontwikkeling te versnellen. Het is niet toevallig dat het LEF tijdens één van de onderwijstafels verder vorm en draagvlak heeft gekregen door jullie. In de afgelopen jaren zijn alle onderwijssectoren van peuterspeelzaal tot universiteit als partner aangesloten bij het LEF. \n\nTijdens één van die onderwijstafels was het een oud-bestuurder van Da Vinci die een rake beschrijving gaf van de situatie in Leiden onderwijsstad. Met het LEF\, de Leidse Aanpak\, het RAP (Regionale Aanpak Lerarentekort) en de LEA (Leidse Educatieve Agenda) was veel dynamiek en verbinding ontstaan.  In zijn woorden: “Er bloeien nu vele mooie bloemen\, maar moeten we er niet hier en daar een boeket van maken?” Het was aanleiding om met elkaar naar mogelijkheden te zoeken om de bestuurlijke drukte te verminderen en meer overzicht te bieden aan de professionals in de diverse netwerken. Na een intensief proces met een groot aantal van jullie heeft dat heeft vandaag de dag geleid tot een samenvoeging van ​het LEF en ​de Leidse Aanpak\, waarbij ‘talentontwikkeling’ nu als aanvullende zichtlijn in het LEF benoemd is. Een van de vragen gedurende dit proces was om de onderwijstafel hier ook in te integreren. \n  \nEn nu…. \n\nHet LEF is de afgelopen jaren uitgegroeid tot een waardevol netwerk. Het draagt bij aan het adresseren van belangrijke opgaven waarvoor het onderwijs zich gesteld ziet. Bovendien is het de verbindende schakel tussen onderwijs en stad als het gaat om de doelen van Leiden Kennisstad. Bijna alle organisaties die normaal gesproken naar de onderwijstafel komen zijn op dit moment al partner in het LEF. En zelfs een aantal meer\, waarmee ook het perspectief ​wordt verbreed hoe we kijken naar onze opgaven in onderwijs en kennisontwikkeling hierin.\nKennisdeling en samen brainstormen over onderwijsontwikkeling was ​een van de doelen van de onderwijstafel en past daarmee inhoudelijk bij de doelstellingen van het LEF.\nTijdens de buitenkring van ​19 mei jongstleden is het voorstel gedaan om de onderwijstafel te integreren. Dat betekent dat 2x per jaar de buitenkring ​in een onderwijstafel setting georganiseerd wordt en daarbij ook de wethouder onderwijs aansluit. Het biedt kans om de onderwerpen die geagendeerd werden op de onderwijstafel meer in verbinding te organiseren en ook de follow up hierop.\nJullie ontvangen in de komende weken via het LEF een uitnodiging voor de vernieuwde onderwijstafel in het nieuwe school- en ​studiejaar. De leden van de onderwijstafel die tot nu toe geen partner waren in het LEF worden apart benaderd.\n\n\nDe onderwijstafel als onderdeel van de buitenkring van het LEF juicht de voormalige wethouder Paul Dirkse voor zijn afronding van harte toe. Het is het bewijs dat we in staat zijn om onze samenwerking verder te ontwikkelen en verbeteren. En het verstevigt in mijn ogen het fundament van Leiden kennis- en onderwijssstad\, één van de doelen van de LEA. De onderwijstafel in vernieuwde vorm is een mooie start van het nieuwe school-/​studiejaar. Ik weet zeker dat mijn opvolger als vaste deelnemer van de onderwijstafel net zoveel energie en werkplezier haalt uit onze samenwerking. \n  \nDe deelnemers van de Leidse onderwijstafel met LEF hebben inmiddels per e-mail een uitnodiging ontvangen. \nDe tafel wordt gehost door het LEF in samenwerking met Hogeschool Leiden. Het thema van deze avond is de Lokaal Educatie Agenda en het mentaal welzijn van leerlingen\, studenten en docenten. \n 
URL:https://www.leidenkennisstad.nl/hetlef/evenement/leidse-onderwijstafel-met-lef/
LOCATION:Het LEF\, Bètaplein 18\, Leiden\, Zuid-Holland\, 2321 CS
CATEGORIES:Leidse onderwijstafel met LEF
ATTACH;FMTTYPE=image/jpeg:https://www.leidenkennisstad.nl/hetlef/wp-content/uploads/2022/10/DSC7577.jpg
END:VEVENT
END:VCALENDAR