BEGIN:VCALENDAR
VERSION:2.0
PRODID:-//Het LEF - ECPv6.15.20//NONSGML v1.0//EN
CALSCALE:GREGORIAN
METHOD:PUBLISH
X-ORIGINAL-URL:https://www.leidenkennisstad.nl/hetlef
X-WR-CALDESC:Evenementen voor Het LEF
REFRESH-INTERVAL;VALUE=DURATION:PT1H
X-Robots-Tag:noindex
X-PUBLISHED-TTL:PT1H
BEGIN:VTIMEZONE
TZID:Europe/Amsterdam
BEGIN:DAYLIGHT
TZOFFSETFROM:+0100
TZOFFSETTO:+0200
TZNAME:CEST
DTSTART:20220327T010000
END:DAYLIGHT
BEGIN:STANDARD
TZOFFSETFROM:+0200
TZOFFSETTO:+0100
TZNAME:CET
DTSTART:20221030T010000
END:STANDARD
BEGIN:DAYLIGHT
TZOFFSETFROM:+0100
TZOFFSETTO:+0200
TZNAME:CEST
DTSTART:20230326T010000
END:DAYLIGHT
BEGIN:STANDARD
TZOFFSETFROM:+0200
TZOFFSETTO:+0100
TZNAME:CET
DTSTART:20231029T010000
END:STANDARD
BEGIN:DAYLIGHT
TZOFFSETFROM:+0100
TZOFFSETTO:+0200
TZNAME:CEST
DTSTART:20240331T010000
END:DAYLIGHT
BEGIN:STANDARD
TZOFFSETFROM:+0200
TZOFFSETTO:+0100
TZNAME:CET
DTSTART:20241027T010000
END:STANDARD
END:VTIMEZONE
BEGIN:VEVENT
DTSTART;TZID=Europe/Amsterdam:20230412T170000
DTEND;TZID=Europe/Amsterdam:20230412T203000
DTSTAMP:20260424T090216
CREATED:20230126T093456Z
LAST-MODIFIED:20230320T161942Z
UID:8446-1681318800-1681331400@www.leidenkennisstad.nl
SUMMARY:De Leidse onderwijstafel met LEF
DESCRIPTION:Het thema van deze onderwijstafel is: \nLeren door te doen: Samenwerken in veranderend onderwijs \nWe zijn dit keer te gast bij Technolab. \nTijdens de avond krijgen we een inkijkje in hoe onderwijs en onderwijspartners nu al samenwerken binnen de vraagstukken rondom anders organiseren\, het aantrekken van mensen voor het onderwijs\, talentontwikkeling en digitale geletterdheid. Wat kunnen we leren van hun gezamenlijk perspectief in het omgaan met de uitdagingen en kansen in het onderwijs? \nDe invulling van de avond doet Technolab samen met partners van de LiS\, mboRijnland\, Marecollege\, Stedelijk Gymnasium\, Jenaplanschool de Kring en Hogeschool Leiden. \nHet belooft weer een inspirerende en interactieve avond te worden die mooi in beeld brengt wat we samen kunnen doen als onderwijspartners in onze vraagstukken en uitdagingen. \n  \nDe definitieve agenda ontvangen jullie binnenkort. \n  \nHartelijke groet\, \n  \nBen Schippers (Technolab) \nChantal Goes (Technolab)  \nSanne van der Linden (LEF) \nJessica Hilhorst (gemeente Leiden)
URL:https://www.leidenkennisstad.nl/hetlef/evenement/de-leidse-onderwijstafel-met-lef/
LOCATION:Technolab Leiden\, Betaplein 28\, Leiden\, Zuid-Holland\, 2312KS\, Nederland
CATEGORIES:Leidse onderwijstafel met LEF
ATTACH;FMTTYPE=image/jpeg:https://www.leidenkennisstad.nl/hetlef/wp-content/uploads/2023/01/LeidenKennisstad.jpg
END:VEVENT
END:VCALENDAR