BEGIN:VCALENDAR
VERSION:2.0
PRODID:-//Het LEF - ECPv6.15.20//NONSGML v1.0//EN
CALSCALE:GREGORIAN
METHOD:PUBLISH
X-ORIGINAL-URL:https://www.leidenkennisstad.nl/hetlef
X-WR-CALDESC:Evenementen voor Het LEF
REFRESH-INTERVAL;VALUE=DURATION:PT1H
X-Robots-Tag:noindex
X-PUBLISHED-TTL:PT1H
BEGIN:VTIMEZONE
TZID:Europe/Amsterdam
BEGIN:DAYLIGHT
TZOFFSETFROM:+0100
TZOFFSETTO:+0200
TZNAME:CEST
DTSTART:20240331T010000
END:DAYLIGHT
BEGIN:STANDARD
TZOFFSETFROM:+0200
TZOFFSETTO:+0100
TZNAME:CET
DTSTART:20241027T010000
END:STANDARD
BEGIN:DAYLIGHT
TZOFFSETFROM:+0100
TZOFFSETTO:+0200
TZNAME:CEST
DTSTART:20250330T010000
END:DAYLIGHT
BEGIN:STANDARD
TZOFFSETFROM:+0200
TZOFFSETTO:+0100
TZNAME:CET
DTSTART:20251026T010000
END:STANDARD
BEGIN:DAYLIGHT
TZOFFSETFROM:+0100
TZOFFSETTO:+0200
TZNAME:CEST
DTSTART:20260329T010000
END:DAYLIGHT
BEGIN:STANDARD
TZOFFSETFROM:+0200
TZOFFSETTO:+0100
TZNAME:CET
DTSTART:20261025T010000
END:STANDARD
END:VTIMEZONE
BEGIN:VEVENT
DTSTART;TZID=Europe/Amsterdam:20251008T170000
DTEND;TZID=Europe/Amsterdam:20251008T210000
DTSTAMP:20260420T004622
CREATED:20250624T145934Z
LAST-MODIFIED:20250902T145325Z
UID:12208-1759942800-1759957200@www.leidenkennisstad.nl
SUMMARY:Nacht van de Leraar\, lustrum en laatste editie....
DESCRIPTION:De Nacht van de Leraar is het jaarlijkse evenement van het LEF waar we samen het prachtige beroep van leraar vieren door elkaar te ontmoeten\, samen kennis te delen en van en met elkaar te leren. Dit jaar is de 10e en laatste editie met als thema: ‘Samen er dwars doorheen!’. \nHoewel we al 10 jaar de Nacht van de Leraar organiseren\, veranderen we elk jaar van vorm. \nDit jaar kan je kiezen uit 3 Leidse Keynotes en workshops met mooie Leidse parels waar sectoroverstijgend samenwerken centraal staat. Laat je verrassen! Bekijk het programma en meld je vanaf 1 juli aan via www.nachtvandeleraar.nl
URL:https://www.leidenkennisstad.nl/hetlef/evenement/nacht-van-de-leraar-lustrum-en-laatste-editie/
LOCATION:PLNT\, Lange gracht 70\, Leiden\, 2312NV\, Nederland
CATEGORIES:10-stappenplan,De toekomst is NU!,LAB-Netwerk,LEF Kennis Café,Nacht van de Leraar,netwerkimpactmodel,Zorgenderwijs met LEF
ATTACH;FMTTYPE=image/png:https://www.leidenkennisstad.nl/hetlef/wp-content/uploads/2025/06/header-30x23-1.png
ORGANIZER;CN="het LEF":MAILTO:info@hetlef.nl
END:VEVENT
BEGIN:VEVENT
DTSTART;TZID=Europe/Amsterdam:20251015T140000
DTEND;TZID=Europe/Amsterdam:20251015T160000
DTSTAMP:20260420T004622
CREATED:20250915T102531Z
LAST-MODIFIED:20250915T123253Z
UID:12366-1760536800-1760544000@www.leidenkennisstad.nl
SUMMARY:LAB #1 - burgerschapsonderwijs in het basisonderwijs met Minke Krijnen
DESCRIPTION:LAB-netwerk\, is hét netwerk voor academische leerkrachten in Leiden.\nHun missie? De kwaliteit van onderwijs verbeteren op basis van evidenced-informed werken en de kennis vanuit (onderzoeks)praktijk laten leiden tot verbeteringen in je eigen onderwijs. \nDe volgende bijeenkomst is op 15 oktober met als thema burgerschapsonderwijs in het basisonderwijs \n  \nDe klas als minimaatschappij of oefenplaats – het is een veelgehoorde uitspraak als het gaat om het vormgeven van burgerschapsonderwijs in het basisonderwijs. \nLeerlingen bouwen samen met hun leraar aan die minimaatschappij. Juist in het sturen op die onderlinge relaties liggen kansen én uitdagingen voor burgerschap. In deze bijeenkomst neemt Minke Krijnen (lerarenopleider en onderzoeker) je mee in haar onderzoek naar sociale relaties in de klas en laat ze zien wat die betekenen voor burgerschapsvorming.  \nZe zoomt daarbij in op het alledaagse: hoe burgerschap verweven zit in de dagelijkse sociale verhoudingen tussen leerlingen en leraar. Ook staat diversiteit in de klas centraal: hoe ga je om met verschillen\, en hoe maak je daar een kracht van? Een sessie voor iedereen die burgerschap elke dag samen met leerlingen vorm wil geven. \n  \n 
URL:https://www.leidenkennisstad.nl/hetlef/evenement/12366/
LOCATION:LLokaal met LEF\, Betaplein 18\, Leiden\, 2321 CS\, Nederland
CATEGORIES:LAB-Netwerk
ATTACH;FMTTYPE=image/png:https://www.leidenkennisstad.nl/hetlef/wp-content/uploads/2024/10/Netwerk-van-leraren@800x.png
END:VEVENT
END:VCALENDAR