BEGIN:VCALENDAR
VERSION:2.0
PRODID:-//Het LEF - ECPv6.15.20//NONSGML v1.0//EN
CALSCALE:GREGORIAN
METHOD:PUBLISH
X-WR-CALNAME:Het LEF
X-ORIGINAL-URL:https://www.leidenkennisstad.nl/hetlef
X-WR-CALDESC:Evenementen voor Het LEF
REFRESH-INTERVAL;VALUE=DURATION:PT1H
X-Robots-Tag:noindex
X-PUBLISHED-TTL:PT1H
BEGIN:VTIMEZONE
TZID:Europe/Amsterdam
BEGIN:DAYLIGHT
TZOFFSETFROM:+0100
TZOFFSETTO:+0200
TZNAME:CEST
DTSTART:20210328T010000
END:DAYLIGHT
BEGIN:STANDARD
TZOFFSETFROM:+0200
TZOFFSETTO:+0100
TZNAME:CET
DTSTART:20211031T010000
END:STANDARD
BEGIN:DAYLIGHT
TZOFFSETFROM:+0100
TZOFFSETTO:+0200
TZNAME:CEST
DTSTART:20220327T010000
END:DAYLIGHT
BEGIN:STANDARD
TZOFFSETFROM:+0200
TZOFFSETTO:+0100
TZNAME:CET
DTSTART:20221030T010000
END:STANDARD
BEGIN:DAYLIGHT
TZOFFSETFROM:+0100
TZOFFSETTO:+0200
TZNAME:CEST
DTSTART:20230326T010000
END:DAYLIGHT
BEGIN:STANDARD
TZOFFSETFROM:+0200
TZOFFSETTO:+0100
TZNAME:CET
DTSTART:20231029T010000
END:STANDARD
BEGIN:DAYLIGHT
TZOFFSETFROM:+0100
TZOFFSETTO:+0200
TZNAME:CEST
DTSTART:20240331T010000
END:DAYLIGHT
BEGIN:STANDARD
TZOFFSETFROM:+0200
TZOFFSETTO:+0100
TZNAME:CET
DTSTART:20241027T010000
END:STANDARD
BEGIN:DAYLIGHT
TZOFFSETFROM:+0100
TZOFFSETTO:+0200
TZNAME:CEST
DTSTART:20250330T010000
END:DAYLIGHT
BEGIN:STANDARD
TZOFFSETFROM:+0200
TZOFFSETTO:+0100
TZNAME:CET
DTSTART:20251026T010000
END:STANDARD
BEGIN:DAYLIGHT
TZOFFSETFROM:+0100
TZOFFSETTO:+0200
TZNAME:CEST
DTSTART:20260329T010000
END:DAYLIGHT
BEGIN:STANDARD
TZOFFSETFROM:+0200
TZOFFSETTO:+0100
TZNAME:CET
DTSTART:20261025T010000
END:STANDARD
END:VTIMEZONE
BEGIN:VEVENT
DTSTART;TZID=Europe/Amsterdam:20250910T123000
DTEND;TZID=Europe/Amsterdam:20250910T190000
DTSTAMP:20260419T225715
CREATED:20250624T144454Z
LAST-MODIFIED:20250624T144454Z
UID:12195-1757507400-1757530800@www.leidenkennisstad.nl
SUMMARY:L-AI-DEN fest
DESCRIPTION:Dat is de kracht van Leiden. \n\nLAIDEN Fest verbindt onderwijs en bedrijfsleven in Kennisstad Leiden.\nOp 10 september 2025 verandert Hogeschool Leiden in het bruisende middelpunt van innovatie en inspiratie! Tijdens LAIDEN Fest 2025 verbinden we onderwijs\, bedrijfsleven en technologie in een dynamisch programma vol demo’s\, workshops en netwerkkansen. \nOf je nu AI-student\, docent\, ondernemer of beleidsmaker bent – dit festival daagt je uit na te denken over de rol van kunstmatige intelligentie in jouw toekomst. \nLaat je inspireren door voorlopers op het gebied van AI\, ontdek hoe beroepen veranderen en draag bij aan Leiden als Kennisstad. \nEen bruisend festival dat onderwijs\, innovatie en ondernemerschap verbindt in het hart van Leiden. Ontmoet (onderwijs) professionals\, ervaar de kracht van AI in de praktijk en laat je inspireren door oplossingen voor de wereld van morgen. Samen geven we vorm aan de toekomst van leren\, werken en leven. \n  \nProgramma \nOp de speciaal ingerichte website vind je het actuele programma. \n  \nAanmelden \nDeelname is gratis en je kan je aanmelden via de site. Reguliere toegangstickets zijn vanaf 1 juli beschikbaar. \n  \nSamen er dwars doorheen. Dat is de kracht van Leiden \nDit is een samenwerking van SCOL\, Hogeschool Leiden\, Da Vinci scholengroep\, gemeente Leiden\, Leiden Kennisstad\, Onderwijs in de Leidse Regio\, Education Warehouse en het LEF.
URL:https://www.leidenkennisstad.nl/hetlef/evenement/l-ai-den-fest/
LOCATION:Hogeschool Leiden\, Zernikedreef 11\, Leiden\, Zuid-Holland\, 2333 CK
CATEGORIES:De toekomst is NU!,TechLEF
ATTACH;FMTTYPE=image/jpeg:https://www.leidenkennisstad.nl/hetlef/wp-content/uploads/2025/06/thumbnail_IMG_3691-750x321-1.jpg
END:VEVENT
BEGIN:VEVENT
DTSTART;TZID=Europe/Amsterdam:20240619T153000
DTEND;TZID=Europe/Amsterdam:20240619T170000
DTSTAMP:20260419T225715
CREATED:20230511T120537Z
LAST-MODIFIED:20230511T120537Z
UID:8988-1718811000-1718816400@www.leidenkennisstad.nl
SUMMARY:TechLEF #5
DESCRIPTION:Een praktische sessies voor technische mensen mét een onderwijshart van de partners in het LEF\, de Digitale Sleutel en SLIB. \nTijdens de sessies verbinden we de partners van het LEF op het vlak van techniek en infra met elkaar\, zodat we ook ‘onder water’ uitdagingen\, ideeën en vraagstukken kunnen behandelen\, kunnen samenwerken\, kennis en vaardigheden kunnen delen en zo het fundament voor onderwijsinnovatie in de Leidse regio nog verder kunnen versterken. \nWil je meer weten? Neem contact op met kernteamlid Melle (m.kramer@scoleiden.nl)
URL:https://www.leidenkennisstad.nl/hetlef/evenement/techlef-5/
LOCATION:Het LEF\, Bètaplein 18\, Leiden\, Zuid-Holland\, 2321 CS
CATEGORIES:TechLEF
ATTACH;FMTTYPE=image/jpeg:https://www.leidenkennisstad.nl/hetlef/wp-content/uploads/2023/01/TechLEF-1.jpg
END:VEVENT
BEGIN:VEVENT
DTSTART;TZID=Europe/Amsterdam:20240418T153000
DTEND;TZID=Europe/Amsterdam:20240418T170000
DTSTAMP:20260419T225715
CREATED:20230511T120442Z
LAST-MODIFIED:20230511T120442Z
UID:8985-1713454200-1713459600@www.leidenkennisstad.nl
SUMMARY:TechLEF #4
DESCRIPTION:Een praktische sessies voor technische mensen mét een onderwijshart van de partners in het LEF\, de Digitale Sleutel en SLIB. \nTijdens de sessies verbinden we de partners van het LEF op het vlak van techniek en infra met elkaar\, zodat we ook ‘onder water’ uitdagingen\, ideeën en vraagstukken kunnen behandelen\, kunnen samenwerken\, kennis en vaardigheden kunnen delen en zo het fundament voor onderwijsinnovatie in de Leidse regio nog verder kunnen versterken. \nWil je meer weten? Neem contact op met kernteamlid Melle (m.kramer@scoleiden.nl)
URL:https://www.leidenkennisstad.nl/hetlef/evenement/techlef-4/
LOCATION:Het LEF\, Bètaplein 18\, Leiden\, Zuid-Holland\, 2321 CS
CATEGORIES:TechLEF
ATTACH;FMTTYPE=image/jpeg:https://www.leidenkennisstad.nl/hetlef/wp-content/uploads/2023/01/TechLEF-1.jpg
END:VEVENT
BEGIN:VEVENT
DTSTART;TZID=Europe/Amsterdam:20240205T153000
DTEND;TZID=Europe/Amsterdam:20240205T170000
DTSTAMP:20260419T225715
CREATED:20230511T120347Z
LAST-MODIFIED:20230511T120347Z
UID:8982-1707147000-1707152400@www.leidenkennisstad.nl
SUMMARY:TechLEF #3
DESCRIPTION:Een praktische sessies voor technische mensen mét een onderwijshart van de partners in het LEF\, de Digitale Sleutel en SLIB. \nTijdens de sessies verbinden we de partners van het LEF op het vlak van techniek en infra met elkaar\, zodat we ook ‘onder water’ uitdagingen\, ideeën en vraagstukken kunnen behandelen\, kunnen samenwerken\, kennis en vaardigheden kunnen delen en zo het fundament voor onderwijsinnovatie in de Leidse regio nog verder kunnen versterken. \nWil je meer weten? Neem contact op met kernteamlid Melle (m.kramer@scoleiden.nl)
URL:https://www.leidenkennisstad.nl/hetlef/evenement/techlef-3-2/
LOCATION:Het LEF\, Bètaplein 18\, Leiden\, Zuid-Holland\, 2321 CS
CATEGORIES:TechLEF
ATTACH;FMTTYPE=image/jpeg:https://www.leidenkennisstad.nl/hetlef/wp-content/uploads/2023/01/TechLEF-1.jpg
END:VEVENT
BEGIN:VEVENT
DTSTART;TZID=Europe/Amsterdam:20231213T153000
DTEND;TZID=Europe/Amsterdam:20231213T170000
DTSTAMP:20260419T225715
CREATED:20230511T120251Z
LAST-MODIFIED:20230511T120251Z
UID:8979-1702481400-1702486800@www.leidenkennisstad.nl
SUMMARY:TechLEF #2
DESCRIPTION:Een praktische sessies voor technische mensen mét een onderwijshart van de partners in het LEF\, de Digitale Sleutel en SLIB. \nTijdens de sessies verbinden we de partners van het LEF op het vlak van techniek en infra met elkaar\, zodat we ook ‘onder water’ uitdagingen\, ideeën en vraagstukken kunnen behandelen\, kunnen samenwerken\, kennis en vaardigheden kunnen delen en zo het fundament voor onderwijsinnovatie in de Leidse regio nog verder kunnen versterken. \nWil je meer weten? Neem contact op met kernteamlid Melle (m.kramer@scoleiden.nl)
URL:https://www.leidenkennisstad.nl/hetlef/evenement/techlef-2-2/
LOCATION:Het LEF\, Bètaplein 18\, Leiden\, Zuid-Holland\, 2321 CS
CATEGORIES:TechLEF
ATTACH;FMTTYPE=image/jpeg:https://www.leidenkennisstad.nl/hetlef/wp-content/uploads/2023/01/TechLEF-1.jpg
END:VEVENT
BEGIN:VEVENT
DTSTART;TZID=Europe/Amsterdam:20231030T153000
DTEND;TZID=Europe/Amsterdam:20231030T170000
DTSTAMP:20260419T225715
CREATED:20230511T120152Z
LAST-MODIFIED:20230511T120152Z
UID:8976-1698679800-1698685200@www.leidenkennisstad.nl
SUMMARY:TechLEF #1
DESCRIPTION:Een praktische sessies voor technische mensen mét een onderwijshart van de partners in het LEF\, de Digitale Sleutel en SLIB. \nTijdens de sessies verbinden we de partners van het LEF op het vlak van techniek en infra met elkaar\, zodat we ook ‘onder water’ uitdagingen\, ideeën en vraagstukken kunnen behandelen\, kunnen samenwerken\, kennis en vaardigheden kunnen delen en zo het fundament voor onderwijsinnovatie in de Leidse regio nog verder kunnen versterken. \nWil je meer weten? Neem contact op met kernteamlid Melle (m.kramer@scoleiden.nl)
URL:https://www.leidenkennisstad.nl/hetlef/evenement/techlef-1/
LOCATION:Het LEF\, Bètaplein 18\, Leiden\, Zuid-Holland\, 2321 CS
CATEGORIES:TechLEF
ATTACH;FMTTYPE=image/jpeg:https://www.leidenkennisstad.nl/hetlef/wp-content/uploads/2023/01/TechLEF-1.jpg
END:VEVENT
BEGIN:VEVENT
DTSTART;TZID=Europe/Amsterdam:20230421T150000
DTEND;TZID=Europe/Amsterdam:20230421T170000
DTSTAMP:20260419T225715
CREATED:20230209T134257Z
LAST-MODIFIED:20230614T202355Z
UID:8541-1682089200-1682096400@www.leidenkennisstad.nl
SUMMARY:TechLEF
DESCRIPTION:Een praktische sessies voor technische mensen mét een onderwijshart van de partners in het LEF\, de Digitale Sleutel en SLIB. \nTijdens de sessies verbinden we de partners van het LEF op het vlak van techniek en infra met elkaar\, zodat we ook ‘onder water’ uitdagingen\, ideeën en vraagstukken kunnen behandelen\, kunnen samenwerken\, kennis en vaardigheden kunnen delen en zo het fundament voor onderwijsinnovatie in de Leidse regio nog verder kunnen versterken.
URL:https://www.leidenkennisstad.nl/hetlef/evenement/techlef-2/
LOCATION:Het LEF\, Bètaplein 18\, Leiden\, Zuid-Holland\, 2321 CS
CATEGORIES:TechLEF
ATTACH;FMTTYPE=image/jpeg:https://www.leidenkennisstad.nl/hetlef/wp-content/uploads/2023/01/TechLEF-1.jpg
END:VEVENT
BEGIN:VEVENT
DTSTART;TZID=Europe/Amsterdam:20221019T150000
DTEND;TZID=Europe/Amsterdam:20221019T170000
DTSTAMP:20260419T225715
CREATED:20220927T130424Z
LAST-MODIFIED:20221014T182346Z
UID:7239-1666191600-1666198800@www.leidenkennisstad.nl
SUMMARY:TechLEF #1
DESCRIPTION:TechLEF biedt praktische sessies voor de technische mensen mét een onderwijshart van de partners in het LEF\, de Digitale Sleutel en SLIB. \nTijdens de sessies verbinden we de partners van het LEF  op het vlak van techniek en infra met elkaar\, zodat we ook ‘onder water’ uitdagingen\, ideeën en vraagstukken kunnen behandelen\, kunnen samenwerken\, kennis en vaardigheden kunnen delen en zo het fundament voor onderwijsinnovatie in de Leidse regio nog verder kunnen versterken.
URL:https://www.leidenkennisstad.nl/hetlef/evenement/techtlef/
LOCATION:Het LEF\, Bètaplein 18\, Leiden\, Zuid-Holland\, 2321 CS
CATEGORIES:TechLEF
ATTACH;FMTTYPE=image/jpeg:https://www.leidenkennisstad.nl/hetlef/wp-content/uploads/2022/03/pexels-alex-knight-2599244.jpg
END:VEVENT
BEGIN:VEVENT
DTSTART;TZID=Europe/Amsterdam:20220627T150000
DTEND;TZID=Europe/Amsterdam:20220627T170000
DTSTAMP:20260419T225715
CREATED:20220523T121936Z
LAST-MODIFIED:20220523T121936Z
UID:6660-1656342000-1656349200@www.leidenkennisstad.nl
SUMMARY:TechLEF
DESCRIPTION:TechLEF biedt praktische sessies voor de technische mensen mét een onderwijshart van de partners in het LEF\, de Digitale Sleutel en SLIB. \nTijdens de sessies verbinden we de partners van het LEF  op het vlak van techniek en infra met elkaar\, zodat we ook ‘onder water’ uitdagingen\, ideeën en vraagstukken kunnen behandelen\, kunnen samenwerken\, kennis en vaardigheden kunnen delen en zo het fundament voor onderwijsinnovatie in de Leidse regio nog verder kunnen versterken.
URL:https://www.leidenkennisstad.nl/hetlef/evenement/techlef/
LOCATION:Het LEF\, Bètaplein 18\, Leiden\, Zuid-Holland\, 2321 CS
CATEGORIES:TechLEF
ATTACH;FMTTYPE=image/jpeg:https://www.leidenkennisstad.nl/hetlef/wp-content/uploads/2022/03/pexels-alex-knight-2599244.jpg
END:VEVENT
BEGIN:VEVENT
DTSTART;TZID=Europe/Amsterdam:20220411T150000
DTEND;TZID=Europe/Amsterdam:20220411T163000
DTSTAMP:20260419T225715
CREATED:20220302T124432Z
LAST-MODIFIED:20220302T124432Z
UID:6356-1649689200-1649694600@www.leidenkennisstad.nl
SUMMARY:TechLEF sessie #3
DESCRIPTION:TechLEF biedt praktische sessies voor de technische mensen mét een onderwijshart van de partners in het LEF\, de Digitale Sleutel en SLIB. \nTijdens de sessies verbinden we de partners van het LEF  op het vlak van techniek en infra met elkaar\, zodat we ook ‘onder water’ uitdagingen\, ideeën en vraagstukken kunnen behandelen\, kunnen samenwerken\, kennis en vaardigheden kunnen delen en zo het fundament voor onderwijsinnovatie in de Leidse regio nog verder kunnen versterken.
URL:https://www.leidenkennisstad.nl/hetlef/evenement/techlef-sessie-3/
LOCATION:Het LEF\, Bètaplein 18\, Leiden\, Zuid-Holland\, 2321 CS
CATEGORIES:TechLEF
ATTACH;FMTTYPE=image/jpeg:https://www.leidenkennisstad.nl/hetlef/wp-content/uploads/2022/03/pexels-alex-knight-2599244.jpg
END:VEVENT
END:VCALENDAR